BEGIN:VCALENDAR
VERSION:2.0
PRODID:-//CLAS - ECPv6.15.20//NONSGML v1.0//EN
CALSCALE:GREGORIAN
METHOD:PUBLISH
X-ORIGINAL-URL:https://clasleaders.org
X-WR-CALDESC:Events for CLAS
REFRESH-INTERVAL;VALUE=DURATION:PT1H
X-Robots-Tag:noindex
X-PUBLISHED-TTL:PT1H
BEGIN:VTIMEZONE
TZID:America/Chicago
BEGIN:DAYLIGHT
TZOFFSETFROM:-0600
TZOFFSETTO:-0500
TZNAME:CDT
DTSTART:20230312T080000
END:DAYLIGHT
BEGIN:STANDARD
TZOFFSETFROM:-0500
TZOFFSETTO:-0600
TZNAME:CST
DTSTART:20231105T070000
END:STANDARD
BEGIN:DAYLIGHT
TZOFFSETFROM:-0600
TZOFFSETTO:-0500
TZNAME:CDT
DTSTART:20240310T080000
END:DAYLIGHT
BEGIN:STANDARD
TZOFFSETFROM:-0500
TZOFFSETTO:-0600
TZNAME:CST
DTSTART:20241103T070000
END:STANDARD
BEGIN:DAYLIGHT
TZOFFSETFROM:-0600
TZOFFSETTO:-0500
TZNAME:CDT
DTSTART:20250309T080000
END:DAYLIGHT
BEGIN:STANDARD
TZOFFSETFROM:-0500
TZOFFSETTO:-0600
TZNAME:CST
DTSTART:20251102T070000
END:STANDARD
BEGIN:DAYLIGHT
TZOFFSETFROM:-0600
TZOFFSETTO:-0500
TZNAME:CDT
DTSTART:20260308T080000
END:DAYLIGHT
BEGIN:STANDARD
TZOFFSETFROM:-0500
TZOFFSETTO:-0600
TZNAME:CST
DTSTART:20261101T070000
END:STANDARD
BEGIN:DAYLIGHT
TZOFFSETFROM:-0600
TZOFFSETTO:-0500
TZNAME:CDT
DTSTART:20270314T080000
END:DAYLIGHT
BEGIN:STANDARD
TZOFFSETFROM:-0500
TZOFFSETTO:-0600
TZNAME:CST
DTSTART:20271107T070000
END:STANDARD
END:VTIMEZONE
BEGIN:VEVENT
DTSTART;TZID=America/Chicago:20260421T130000
DTEND;TZID=America/Chicago:20260421T140000
DTSTAMP:20260423T185823
CREATED:20250730T174718Z
LAST-MODIFIED:20250730T174718Z
UID:10000089-1776776400-1776780000@clasleaders.org
SUMMARY:AAMSP Virtual Professional Learning Series 4 of 4
DESCRIPTION:AAMSP Virtual Professional Learning Sessions for P-12 School Leaders\nAPLDS Approved Sessions | Free for ALL CLAS Members\n  \nView more information and register online.
URL:https://clasleaders.org/event/aamsp-virtual-professional-learning-series-4-of-4/
LOCATION:Virtual
CATEGORIES:Affiliate Conferences and Events,Webinars and Webcasts
ATTACH;FMTTYPE=image/png:https://clasleaders.org/wp-content/uploads/2025/07/AAMSP-Virtual-Professional-Learning-Header-NEW.png
END:VEVENT
BEGIN:VEVENT
DTSTART;TZID=America/Chicago:20260415T110000
DTEND;TZID=America/Chicago:20260415T114500
DTSTAMP:20260423T185823
CREATED:20250604T193353Z
LAST-MODIFIED:20250604T193353Z
UID:10000062-1776250800-1776253500@clasleaders.org
SUMMARY:2026 April Lunch and Learn: People-ing Is Hard: A Survival Guide for Educational Leaders
DESCRIPTION:People-ing Is Hard: A Survival Guide for Educational Leaders\nApril 15\, 2026\n11:00 a.m. – 11:45 a.m.\nPresented by: Irma Townsend
URL:https://clasleaders.org/event/2026-april-lunch-and-learn-people-ing-is-hard-a-survival-guide-for-educational-leaders/
LOCATION:Virtual
CATEGORIES:Lunch & Learn,Webinars and Webcasts
ATTACH;FMTTYPE=image/png:https://clasleaders.org/wp-content/uploads/2025/04/25-26-Lunch-Learn-600x200-1.png
END:VEVENT
BEGIN:VEVENT
DTSTART;TZID=America/Chicago:20260316T110000
DTEND;TZID=America/Chicago:20260316T114500
DTSTAMP:20260423T185823
CREATED:20250604T192657Z
LAST-MODIFIED:20260223T195652Z
UID:10000061-1773658800-1773661500@clasleaders.org
SUMMARY:2026 March Lunch and Learn: Ethics in Action: Navigating Real-World Dilemmas Through Simulation
DESCRIPTION:Ethics in Action: Navigating Real-World Dilemmas Through Simulation\nMarch 16\, 2026\n11:00 a.m. – 11:45 a.m.\nPresented by: Ben White
URL:https://clasleaders.org/event/2026-march-lunch-and-learn-ethics/
LOCATION:Virtual
CATEGORIES:Lunch & Learn,Webinars and Webcasts
ATTACH;FMTTYPE=image/png:https://clasleaders.org/wp-content/uploads/2025/04/25-26-Lunch-Learn-600x200-1.png
END:VEVENT
BEGIN:VEVENT
DTSTART;TZID=America/Chicago:20260226T110000
DTEND;TZID=America/Chicago:20260226T120000
DTSTAMP:20260423T185823
CREATED:20250905T183942Z
LAST-MODIFIED:20250905T184511Z
UID:10000095-1772103600-1772107200@clasleaders.org
SUMMARY:ALA504 Empower Hour #4: Game Plan for Mental Health
DESCRIPTION:
URL:https://clasleaders.org/event/ala504-empower-hour-4-game-plan-for-mental-health/
LOCATION:Virtual
CATEGORIES:Affiliate Conferences and Events,Webinars and Webcasts
ATTACH;FMTTYPE=image/png:https://clasleaders.org/wp-content/uploads/2024/08/504-Empower-Hours-Event-Card.png
END:VEVENT
BEGIN:VEVENT
DTSTART;TZID=America/Chicago:20260226T090000
DTEND;TZID=America/Chicago:20260226T150000
DTSTAMP:20260423T185823
CREATED:20250626T182311Z
LAST-MODIFIED:20251125T165151Z
UID:10000082-1772096400-1772118000@clasleaders.org
SUMMARY:AASCD C&I Spring 2026 Virtual Bootcamp
DESCRIPTION:February 26\, 2026\n9:00 a.m. – 3:00 p.m.\n$25.00/individual (AASCD member)\n$40.00/individual (AASCD non-member) \nImmerse yourself in a dynamic learning experience with a diverse array of topics to help you as you lead Alabama schools! Whether you’re interested in the coaching framework\, MTSS\, or Special Education\, this one-day virtual workshop is for you! \nRegister Online!\n 
URL:https://clasleaders.org/event/aascd-ci-spring-2026-virtual-bootcamp/
LOCATION:Virtual
CATEGORIES:Affiliate Conferences and Events,Webinars and Webcasts
ATTACH;FMTTYPE=image/png:https://clasleaders.org/wp-content/uploads/2024/07/AASCDBanner-600x200-1.png
END:VEVENT
BEGIN:VEVENT
DTSTART;TZID=America/Chicago:20260224T110000
DTEND;TZID=America/Chicago:20260224T114500
DTSTAMP:20260423T185823
CREATED:20260202T204804Z
LAST-MODIFIED:20260202T204910Z
UID:10000098-1771930800-1771933500@clasleaders.org
SUMMARY:Bonus Webinar: eSports by PowerUpEDU
DESCRIPTION:
URL:https://clasleaders.org/event/bonus-webinar-esports-by-powerupedu/
LOCATION:Virtual
CATEGORIES:Lunch & Learn,Webinars and Webcasts
ATTACH;FMTTYPE=image/png:https://clasleaders.org/wp-content/uploads/2025/04/25-26-Lunch-Learn-600x200-1.png
END:VEVENT
BEGIN:VEVENT
DTSTART;TZID=America/Chicago:20260218T110000
DTEND;TZID=America/Chicago:20260218T114500
DTSTAMP:20260423T185823
CREATED:20250604T192547Z
LAST-MODIFIED:20251022T162724Z
UID:10000060-1771412400-1771415100@clasleaders.org
SUMMARY:2026 February Lunch and Learn: The Invisible Curriculum: Shaping School Climate for Success
DESCRIPTION:The Invisible Curriculum: Shaping school Climate for Success\n  \nFebruary 18\, 2026\n11:00 a.m. – 11:45 a.m.\nPresented by: Trey Mims
URL:https://clasleaders.org/event/2026-february-lunch-and-learn-nside-empowering-schools-for-every-emergency/
LOCATION:Virtual
CATEGORIES:Lunch & Learn,Webinars and Webcasts
ATTACH;FMTTYPE=image/png:https://clasleaders.org/wp-content/uploads/2025/04/25-26-Lunch-Learn-600x200-1.png
END:VEVENT
BEGIN:VEVENT
DTSTART;TZID=America/Chicago:20260217T130000
DTEND;TZID=America/Chicago:20260217T140000
DTSTAMP:20260423T185823
CREATED:20250730T174053Z
LAST-MODIFIED:20250730T174053Z
UID:10000088-1771333200-1771336800@clasleaders.org
SUMMARY:AAMSP Virtual Professional Learning Series 3 of 4
DESCRIPTION:AAMSP Virtual Professional Learning Sessions for P-12 School Leaders\nAPLDS Approved Sessions | Free for ALL CLAS Members\n  \nView more information and register online.
URL:https://clasleaders.org/event/aamsp-virtual-professional-learning-series-3-of-4/
LOCATION:Virtual
CATEGORIES:Affiliate Conferences and Events,Webinars and Webcasts
ATTACH;FMTTYPE=image/png:https://clasleaders.org/wp-content/uploads/2025/07/AAMSP-Virtual-Professional-Learning-Header-NEW.png
END:VEVENT
BEGIN:VEVENT
DTSTART;TZID=America/Chicago:20260120T110000
DTEND;TZID=America/Chicago:20260120T120000
DTSTAMP:20260423T185823
CREATED:20250905T183841Z
LAST-MODIFIED:20260112T155719Z
UID:10000094-1768906800-1768910400@clasleaders.org
SUMMARY:ALA504 Empower Hour #3: Winning with Extracurriculars
DESCRIPTION:Please note: date changed due to federal holiday on 1/19/2026. Existing links will work to access this webinar via Zoom.
URL:https://clasleaders.org/event/ala504-empower-hour-3-winning-with-extracurriculars/
LOCATION:Virtual
CATEGORIES:Affiliate Conferences and Events,Webinars and Webcasts
ATTACH;FMTTYPE=image/png:https://clasleaders.org/wp-content/uploads/2024/08/504-Empower-Hours-Event-Card.png
END:VEVENT
BEGIN:VEVENT
DTSTART;TZID=America/Chicago:20251120T110000
DTEND;TZID=America/Chicago:20251120T114500
DTSTAMP:20260423T185823
CREATED:20250603T195402Z
LAST-MODIFIED:20251027T200321Z
UID:10000056-1763636400-1763639100@clasleaders.org
SUMMARY:2025 November Lunch and Learn: nSide: Empowering Schools for Every Emergency
DESCRIPTION:nSide: Empowering Schools for Every Emergency\nNovember 20\, 2025\n11:00 a.m. – 11:45 a.m.\nPresented by: Kimanthi Stewart and Marilyn Lewis
URL:https://clasleaders.org/event/2025-november-lunch-and-learn-back-to-school-curbin-absenteeism-2/
LOCATION:Virtual
CATEGORIES:Lunch & Learn,Webinars and Webcasts
ATTACH;FMTTYPE=image/png:https://clasleaders.org/wp-content/uploads/2025/04/25-26-Lunch-Learn-600x200-1.png
END:VEVENT
BEGIN:VEVENT
DTSTART;TZID=America/Chicago:20251117T110000
DTEND;TZID=America/Chicago:20251117T120000
DTSTAMP:20260423T185823
CREATED:20250905T183739Z
LAST-MODIFIED:20250905T183739Z
UID:10000093-1763377200-1763380800@clasleaders.org
SUMMARY:ALA504 Empower Hour #2: The Health Playbook (Diabetes & Seizures) DATE SUBJECT TO CHANGE
DESCRIPTION:
URL:https://clasleaders.org/event/ala504-empower-hour-2-the-health-playbook-diabetes-seizures-date-subject-to-change/
LOCATION:Virtual
CATEGORIES:Affiliate Conferences and Events,Webinars and Webcasts
ATTACH;FMTTYPE=image/png:https://clasleaders.org/wp-content/uploads/2024/08/504-Empower-Hours-Event-Card.png
END:VEVENT
BEGIN:VEVENT
DTSTART;TZID=America/Chicago:20251106T090000
DTEND;TZID=America/Chicago:20251106T150000
DTSTAMP:20260423T185823
CREATED:20250626T181347Z
LAST-MODIFIED:20250910T133350Z
UID:10000080-1762419600-1762441200@clasleaders.org
SUMMARY:AASCD Fall 2025 C&I Bootcamp (Virtual)
DESCRIPTION:9:00 a.m. – 2:00 p.m. \n$25.00/individual (AASCD member)\n$40.00/individual (AASCD non-member) \nChecks should be made payable to:\nAASCD\nPO Box 428\nMontgomery\, AL 36101-0428
URL:https://clasleaders.org/event/aascd-fall-2025-ci-bootcamp/
LOCATION:Virtual
CATEGORIES:Affiliate Conferences and Events,Webinars and Webcasts
ATTACH;FMTTYPE=image/png:https://clasleaders.org/wp-content/uploads/2024/07/AASCDBanner-600x200-1.png
END:VEVENT
BEGIN:VEVENT
DTSTART;TZID=America/Chicago:20251029T110000
DTEND;TZID=America/Chicago:20251029T114500
DTSTAMP:20260423T185823
CREATED:20250603T194552Z
LAST-MODIFIED:20250603T195504Z
UID:10000055-1761735600-1761738300@clasleaders.org
SUMMARY:2025 October Lunch and Learn: Cultivating a Culture of Continuous Improvement: The PLC Approach
DESCRIPTION:Cultivating a Culture of Continuous Improvement: The PLC Approach\nOctober 29\, 2025\n11:00 a.m. – 11:45 a.m.\nPresented by: Orletta Rush
URL:https://clasleaders.org/event/2025-october-lunch-and-learn/
LOCATION:Virtual
CATEGORIES:Lunch & Learn,Webinars and Webcasts
ATTACH;FMTTYPE=image/png:https://clasleaders.org/wp-content/uploads/2025/04/25-26-Lunch-Learn-600x200-1.png
END:VEVENT
BEGIN:VEVENT
DTSTART;TZID=America/Chicago:20251021T130000
DTEND;TZID=America/Chicago:20251021T140000
DTSTAMP:20260423T185823
CREATED:20250730T173744Z
LAST-MODIFIED:20250730T173957Z
UID:10000087-1761051600-1761055200@clasleaders.org
SUMMARY:AAMSP Virtual Professional Learning Series 2 of 4
DESCRIPTION:AAMSP Virtual Professional Learning Sessions for P-12 School Leaders\nAPLDS Approved Sessions | Free for ALL CLAS Members\n  \nView more information and register online.
URL:https://clasleaders.org/event/aamsp-virtual-professional-learning-series-2/
LOCATION:Virtual
CATEGORIES:Affiliate Conferences and Events,Webinars and Webcasts
ATTACH;FMTTYPE=image/png:https://clasleaders.org/wp-content/uploads/2025/07/AAMSP-Virtual-Professional-Learning-Header-NEW.png
END:VEVENT
BEGIN:VEVENT
DTSTART;TZID=America/Chicago:20250930T110000
DTEND;TZID=America/Chicago:20250930T114500
DTSTAMP:20260423T185823
CREATED:20250603T190905Z
LAST-MODIFIED:20250716T174633Z
UID:10000054-1759230000-1759232700@clasleaders.org
SUMMARY:2025 September Lunch and Learn: Back to School: Curbing Absenteeism
DESCRIPTION:Back to School: Curbing Absenteeism\nSeptember 30\, 2025\n11:00 a.m. – 11:45 a.m.\nPresented by: Kay Warfield and Shenitra Dees
URL:https://clasleaders.org/event/2025-september-lunch-and-learn/
LOCATION:Virtual
CATEGORIES:Lunch & Learn,Webinars and Webcasts
ATTACH;FMTTYPE=image/png:https://clasleaders.org/wp-content/uploads/2025/04/25-26-Lunch-Learn-600x200-1.png
END:VEVENT
BEGIN:VEVENT
DTSTART;TZID=America/Chicago:20250919T110000
DTEND;TZID=America/Chicago:20250919T120000
DTSTAMP:20260423T185823
CREATED:20250905T163346Z
LAST-MODIFIED:20250905T183637Z
UID:10000092-1758279600-1758283200@clasleaders.org
SUMMARY:ALA504 Empower Hour #1: Novice 504 – Pre-Game Planning
DESCRIPTION:
URL:https://clasleaders.org/event/2025-2026-ala504-empower-hours/
LOCATION:Virtual
CATEGORIES:Affiliate Conferences and Events,Webinars and Webcasts
ATTACH;FMTTYPE=image/png:https://clasleaders.org/wp-content/uploads/2024/08/504-Empower-Hours-Event-Card.png
END:VEVENT
BEGIN:VEVENT
DTSTART;TZID=America/Chicago:20250827T110000
DTEND;TZID=America/Chicago:20250827T114500
DTSTAMP:20260423T185823
CREATED:20250603T190304Z
LAST-MODIFIED:20250721T192149Z
UID:10000053-1756292400-1756295100@clasleaders.org
SUMMARY:2025 August Lunch and Learn: APLDS Updates
DESCRIPTION:Alabama Principal Leadership Development System (APLDS) Updates\nAugust 2\, 2025\n11:00 a.m. – 11:45 a.m.\nPresented by: Anna Shepherd Jones and Telena Madison
URL:https://clasleaders.org/event/2025-august-lunch-and-learn-aplds-updates/
LOCATION:Virtual
CATEGORIES:Lunch & Learn,Webinars and Webcasts
ATTACH;FMTTYPE=image/png:https://clasleaders.org/wp-content/uploads/2025/04/25-26-Lunch-Learn-600x200-1.png
END:VEVENT
BEGIN:VEVENT
DTSTART;TZID=America/Chicago:20250826T130000
DTEND;TZID=America/Chicago:20250826T140000
DTSTAMP:20260423T185823
CREATED:20250730T172919Z
LAST-MODIFIED:20250819T141154Z
UID:10000086-1756213200-1756216800@clasleaders.org
SUMMARY:AAMSP Virtual Professional Learning Series 1 of 4 (RESCHEDULED)
DESCRIPTION:AAMSP Virtual Professional Learning Sessions for P-12 School Leaders\nAPLDS Approved Sessions | Free for ALL CLAS Members\n  \nView more information and register online.
URL:https://clasleaders.org/event/aamsp-virtual-professional-learning-series/
LOCATION:Virtual
CATEGORIES:Affiliate Conferences and Events,Webinars and Webcasts
ATTACH;FMTTYPE=image/png:https://clasleaders.org/wp-content/uploads/2025/07/AAMSP-Virtual-Professional-Learning-Header-NEW.png
END:VEVENT
BEGIN:VEVENT
DTSTART;TZID=America/Chicago:20250730T110000
DTEND;TZID=America/Chicago:20250730T120000
DTSTAMP:20260423T185823
CREATED:20250623T190103Z
LAST-MODIFIED:20250623T190914Z
UID:10000065-1753873200-1753876800@clasleaders.org
SUMMARY:2025 Bonus State Legislative Updates
DESCRIPTION:2025 Bonus State Legislative Updates\nJuly 30\, 2025\n11:00 a.m. – 12:00 p.m.\nPresented by: Whitney Miller-Nichols
URL:https://clasleaders.org/event/2025-bonus-state-legislative-updates/
LOCATION:Virtual
CATEGORIES:Lunch & Learn,Webinars and Webcasts
ATTACH;FMTTYPE=image/png:https://clasleaders.org/wp-content/uploads/2025/01/ADV-CLAS-legislative-update-header-1200px.png
END:VEVENT
BEGIN:VEVENT
DTSTART;TZID=America/Chicago:20250508T110000
DTEND;TZID=America/Chicago:20250508T120000
DTSTAMP:20260423T185823
CREATED:20240816T145623Z
LAST-MODIFIED:20240829T183416Z
UID:10000021-1746702000-1746705600@clasleaders.org
SUMMARY:ALA504 Empower Hour #4: Who Let the Dogs In? Service Animals in Schools
DESCRIPTION:Service Animal School Guidelines\nThis is the second in a series of 4 Alabama 504 Virtual Training Sessions. \nHow does a school respond to a request for a student to bring a service animal to school? This session will highlight relevant requirements of the service animal provisions of the ADA and explore the vital components of appropriate service animal practices and procedures that should be maintained by all Alabama schools. \nPresented by: Julie J. Weatherly\, Esq.
URL:https://clasleaders.org/event/ala504-empower-hour-4-service-animal-school-guidelines/
LOCATION:Virtual
CATEGORIES:Affiliate Conferences and Events,Webinars and Webcasts
ATTACH;FMTTYPE=image/png:https://clasleaders.org/wp-content/uploads/2024/08/504-Empower-Hours-Event-Card.png
END:VEVENT
BEGIN:VEVENT
DTSTART;TZID=America/Chicago:20250506T110000
DTEND;TZID=America/Chicago:20250506T114500
DTSTAMP:20260423T185823
CREATED:20240917T140411Z
LAST-MODIFIED:20250218T193752Z
UID:10000046-1746529200-1746531900@clasleaders.org
SUMMARY:2025 May Lunch and Learn: State Legislative Updates
DESCRIPTION:State Legislative Updates\nMay 6\, 2025\n11:00 a.m. – 11:45 a.m.\nPresented by: Whitney Miller-Nichols
URL:https://clasleaders.org/event/2024-may-lunch-and-learn/
LOCATION:Virtual
CATEGORIES:Lunch & Learn,Webinars and Webcasts
ATTACH;FMTTYPE=image/png:https://clasleaders.org/wp-content/uploads/2024/07/24-25-Lunch-Learn-600x200-1.png
END:VEVENT
BEGIN:VEVENT
DTSTART;TZID=America/Chicago:20250306T080000
DTEND;TZID=America/Chicago:20250907T170000
DTSTAMP:20260423T185823
CREATED:20250306T143219Z
LAST-MODIFIED:20250311T134801Z
UID:10000048-1741248000-1757264400@clasleaders.org
SUMMARY:2025 Law Conference Webcast
DESCRIPTION:If you missed the CLAS Law Conference this year\, you may now view the webcast version. It features three general sessions and two breakout sessions. Handouts are provided. \n*The 2025 Law Conference Webcast can only be assigned to one PLU number.\n \nThis webcast can be used in place of the 2025 CLAS Law Conference for PLUACLD1259\, PLUACLD1256(ACTA)\, PLUACLD1291(ALA-CASE)\, PLUACLD1316(AASPA) and PLUACLD1260. \nMember Fee: $250\nNon-Member Fee: $498\nPlease note that the CLAS office will provide access information and technical support during normal business hours. Access links will not be sent until payment-in-full has been received\, or a copy of a valid and signed purchase order has been received. Payment information may be provided to admin@clasleaders.org or by faxing to (334) 265-3611 to the attention of Anita Reid. \nInformation presented in this webcast is current as of March 6\, 2025. 
URL:https://clasleaders.org/event/2025-law-conference-webcast/
LOCATION:Virtual
CATEGORIES:CLAS Conferences and Events,Webinars and Webcasts
ATTACH;FMTTYPE=image/png:https://clasleaders.org/wp-content/uploads/2024/07/Law-Webcast-600x200-1.png
END:VEVENT
BEGIN:VEVENT
DTSTART;TZID=America/Chicago:20250227T090000
DTEND;TZID=America/Chicago:20250227T150000
DTSTAMP:20260423T185823
CREATED:20240826T170953Z
LAST-MODIFIED:20241216T175011Z
UID:10000040-1740646800-1740668400@clasleaders.org
SUMMARY:AASCD Curriculum & Instruction Spring 2025 Virtual Bootcamp
DESCRIPTION:February 27\, 2025\n9:00 a.m. – 3:00 p.m.\n$25.00/individual (AASCD member)\n$40.00/individual (AASCD non-member) \nImmerse yourself in a dynamic learning experience with a diverse array of topics to help you as you lead Alabama schools! Whether you’re interested in the coaching framework\, MTSS\, or Special Education\, this one-day virtual workshop is for you! \nRegister Online!\nChecks should be made payable to:\nAASCD\nPO Box 428\nMontgomery\, AL 36101-0428 \n\n                                 Sponsored by:
URL:https://clasleaders.org/event/aascd-curriculum-instruction-spring-virtual-bootcamp/
LOCATION:Virtual
CATEGORIES:Affiliate Conferences and Events,Webinars and Webcasts
ATTACH;FMTTYPE=image/png:https://clasleaders.org/wp-content/uploads/2024/07/AASCDBanner-600x200-1.png
END:VEVENT
BEGIN:VEVENT
DTSTART;TZID=America/Chicago:20250213T110000
DTEND;TZID=America/Chicago:20250213T120000
DTSTAMP:20260423T185823
CREATED:20240816T145526Z
LAST-MODIFIED:20240829T183327Z
UID:10000020-1739444400-1739448000@clasleaders.org
SUMMARY:ALA504 Empower Hour #3: Ensuring Compliance when Disciplining the 504-Only Student
DESCRIPTION:504 Student Discipline Compliance\nThis is the second in a series of 4 Alabama 504 Virtual Training Sessions. \nThe issue of discipline in schools continues to be the Number 1 “hot topic” nationwide year after year. For that reason\, it is important to generally review the rules of discipline applicable to the “504-only” student which\, in most ways are the same as those under the IDEA\, but in some ways are different. This session will review the highlights of what every educator needs to know about compliant disciplinary practices applicable to students with disabilities under Section 504. \nPresented by: Julie J. Weatherly\, Esq.
URL:https://clasleaders.org/event/ala504-empower-hour-3-504-student-discipline-compliance/
LOCATION:Virtual
CATEGORIES:Affiliate Conferences and Events,Webinars and Webcasts
ATTACH;FMTTYPE=image/png:https://clasleaders.org/wp-content/uploads/2024/08/504-Empower-Hours-Event-Card.png
END:VEVENT
BEGIN:VEVENT
DTSTART;TZID=America/Chicago:20241121T110000
DTEND;TZID=America/Chicago:20241121T114500
DTSTAMP:20260423T185823
CREATED:20240723T193938Z
LAST-MODIFIED:20241021T193959Z
UID:10000015-1732186800-1732189500@clasleaders.org
SUMMARY:2024 November Lunch & Learn: State Report Card: Autopsy or Regular Checkup?
DESCRIPTION:State Report Card: Autopsy or Regular Checkup?\nPresented by: Daniel Evans\nLunch and Learn webinar is complimentary for CLAS members.  If you are unable to register\, please join or renew your CLAS membership. If you have any questions\, please email help@clasleaders.org. \nThis webinar is an ACLD approved activity for Standard V: Community & Stakeholder Relationships PLUACLD1057.
URL:https://clasleaders.org/event/2024-november-lunch-learn-webinar-using-report-card-data-for-school-improvement/
LOCATION:Virtual
CATEGORIES:CLAS Conferences and Events,Lunch & Learn,Webinars and Webcasts
ATTACH;FMTTYPE=image/png:https://clasleaders.org/wp-content/uploads/2024/07/24-25-Lunch-Learn-600x200-1.png
END:VEVENT
BEGIN:VEVENT
DTSTART;TZID=America/Chicago:20241118T110000
DTEND;TZID=America/Chicago:20241118T120000
DTSTAMP:20260423T185823
CREATED:20240816T145425Z
LAST-MODIFIED:20240829T190042Z
UID:10000019-1731927600-1731931200@clasleaders.org
SUMMARY:ALA504 Empower Hour #2: Understanding 504 “Eligibility” and Navigating 504’s “Evaluation” Guidelines
DESCRIPTION:504 Eligibility Criteria\nThis is the second in a series of 4 Alabama 504 Virtual Training Sessions. \nThis hour will provide an overview of 504 “eligibility criteria” and the process for determining whether a student is a “504 student.” The session will cover key points such as defining a disability\, determining the impact of the disability on major life activities\, and determining whether a “504 student” is eligible for a 504 Plan. \nPresented by: Julie J. Weatherly\, Esq.
URL:https://clasleaders.org/event/ala504-empower-hour-2-504-eligibility-criteria/
LOCATION:Virtual
CATEGORIES:Affiliate Conferences and Events,Webinars and Webcasts
ATTACH;FMTTYPE=image/png:https://clasleaders.org/wp-content/uploads/2024/08/504-Empower-Hours-Event-Card.png
END:VEVENT
BEGIN:VEVENT
DTSTART;TZID=America/Chicago:20241108T090000
DTEND;TZID=America/Chicago:20241108T150000
DTSTAMP:20260423T185823
CREATED:20240724T203520Z
LAST-MODIFIED:20240828T124321Z
UID:10000017-1731056400-1731078000@clasleaders.org
SUMMARY:AASCD Fall 2024 C&I Bootcamp
DESCRIPTION:9:00 a.m. – 2:00 p.m. \n$25.00/individual (AASCD member)\n$40.00/individual (AASCD non-member) \nChecks should be made payable to:\nAASCD\nPO Box 428\nMontgomery\, AL 36101-0428
URL:https://clasleaders.org/event/aascd-fall-2024-ci-bootcamp/
LOCATION:Virtual
CATEGORIES:Affiliate Conferences and Events,Webinars and Webcasts
ATTACH;FMTTYPE=image/png:https://clasleaders.org/wp-content/uploads/2024/07/AASCDBanner-600x200-1.png
END:VEVENT
BEGIN:VEVENT
DTSTART;TZID=America/Chicago:20240823T110000
DTEND;TZID=America/Chicago:20240823T120000
DTSTAMP:20260423T185823
CREATED:20240816T144837Z
LAST-MODIFIED:20240829T205621Z
UID:10000018-1724410800-1724414400@clasleaders.org
SUMMARY:ALA504 Empower Hour #1: The Intersection of 504\, ADA\, and IDEA
DESCRIPTION:Section 504 vs ADA vs IDEA\nThis is the first in a series of 4 Alabama 504 Virtual Training Sessions. \nSection 504\, the ADA\, and the IDEA are federal laws that work together to protect students with disabilities from discrimination\, exclusion\, and unequal treatment in education. These laws often overlap and differ in several ways. In this session\, we will compare some of the educational provisions of these laws and explore key differences in what they require of schools in the education of students with disabilities. \nPresented by: Julie J. Weatherly\, Esq.
URL:https://clasleaders.org/event/ala504-empower-hour-1-section-504-vs-ada-vs-idea/
LOCATION:Virtual
CATEGORIES:Affiliate Conferences and Events,Webinars and Webcasts
ATTACH;FMTTYPE=image/png:https://clasleaders.org/wp-content/uploads/2024/08/504-Empower-Hours-Event-Card.png
END:VEVENT
BEGIN:VEVENT
DTSTART;TZID=America/Chicago:20240305T080000
DTEND;TZID=America/Chicago:20240906T170000
DTSTAMP:20260423T185823
CREATED:20240305T214238Z
LAST-MODIFIED:20240909T154203Z
UID:10000002-1709625600-1725642000@clasleaders.org
SUMMARY:2024 Law Conference Webcast
DESCRIPTION:If you missed the CLAS Law Conference this year\, you may now view the webcast version. It features three general sessions and one breakout session. Handouts are provided. \n*The 2024 Law Conference Webcast can only be assigned to one PLU number.\n \nThis webcast can be used in place of the 2024 CLAS Law Conference for PLUACLD954\, PLUACLD1124(ACTA)\, PLUACLD1181(ALA-CASE)\, PLUACLD1204(AASPA) and PLUACLD1140. \nOnly available now to those working on the AASPA PLU. Please call the office to register.\nMember Fee: $248\nNon-Member Fee: $498\nPlease note that the CLAS office will provide access information and technical support during normal business hours. Access links will not be sent until payment-in-full has been received\, or a copy of a valid and signed purchase order has been received. Payment information may be provided to admin@clasleaders.org or by faxing to (334) 265-3611 to the attention of Anita Reid. \nInformation presented in this webcast is current as of March 5\, 2024. 
URL:https://clasleaders.org/event/2024-law-conference-webcast/
LOCATION:Virtual
CATEGORIES:CLAS Conferences and Events,Webinars and Webcasts
ATTACH;FMTTYPE=image/png:https://clasleaders.org/wp-content/uploads/2024/07/Law-Webcast-600x200-1.png
END:VEVENT
END:VCALENDAR