BEGIN:VCALENDAR
VERSION:2.0
PRODID:-//CLAS - ECPv6.15.20//NONSGML v1.0//EN
CALSCALE:GREGORIAN
METHOD:PUBLISH
X-ORIGINAL-URL:https://clasleaders.org
X-WR-CALDESC:Events for CLAS
REFRESH-INTERVAL;VALUE=DURATION:PT1H
X-Robots-Tag:noindex
X-PUBLISHED-TTL:PT1H
BEGIN:VTIMEZONE
TZID:America/Chicago
BEGIN:DAYLIGHT
TZOFFSETFROM:-0600
TZOFFSETTO:-0500
TZNAME:CDT
DTSTART:20230312T080000
END:DAYLIGHT
BEGIN:STANDARD
TZOFFSETFROM:-0500
TZOFFSETTO:-0600
TZNAME:CST
DTSTART:20231105T070000
END:STANDARD
BEGIN:DAYLIGHT
TZOFFSETFROM:-0600
TZOFFSETTO:-0500
TZNAME:CDT
DTSTART:20240310T080000
END:DAYLIGHT
BEGIN:STANDARD
TZOFFSETFROM:-0500
TZOFFSETTO:-0600
TZNAME:CST
DTSTART:20241103T070000
END:STANDARD
BEGIN:DAYLIGHT
TZOFFSETFROM:-0600
TZOFFSETTO:-0500
TZNAME:CDT
DTSTART:20250309T080000
END:DAYLIGHT
BEGIN:STANDARD
TZOFFSETFROM:-0500
TZOFFSETTO:-0600
TZNAME:CST
DTSTART:20251102T070000
END:STANDARD
BEGIN:DAYLIGHT
TZOFFSETFROM:-0600
TZOFFSETTO:-0500
TZNAME:CDT
DTSTART:20260308T080000
END:DAYLIGHT
BEGIN:STANDARD
TZOFFSETFROM:-0500
TZOFFSETTO:-0600
TZNAME:CST
DTSTART:20261101T070000
END:STANDARD
END:VTIMEZONE
BEGIN:VEVENT
DTSTART;TZID=America/Chicago:20251024T080000
DTEND;TZID=America/Chicago:20251024T150000
DTSTAMP:20260425T142225
CREATED:20250709T211210Z
LAST-MODIFIED:20250731T201507Z
UID:10000084-1761292800-1761318000@clasleaders.org
SUMMARY:2025 AASPA Fall Drive-In
DESCRIPTION:You do not want to miss the 2025 AASPA Fall Drive-In Conference!\nOctober 24\, 2025\nShelby County Instructional Services Center\n601 1st St. S\, Alabaster\, AL 35007\n\n\n\n\nAASPA’s Fall Drive-In Conference remains a premier event for professional learning and networking for school personnel administrators.  We know you need resources and best practices to help you succeed in the following months.  Join us October 24\, 2025\, at the Shelby County Instructional Center as we present the most up-to-date comprehensive one-day learning opportunity for Alabama Personnel Administrators! \n\n\n\n\nRegister Here Online!\nCheck out the event flyer here!\nTopics:\nParental Paid Leave & Workman’s Comp:  Attorney Melissa McKie\nCLAS & Legislative Updates:  Whitney Miller-Nichols\nHire True Updates: Mona Coan and Andrea Wilson\nALSDE Certification Updates:  Shavon Harris\nBackground Check Updates: Corey Martin \n$70 AASPA (You must be a member AASPA through CLAS)\n$95 Non-Member Fee\nFor Room Reservations: Call the Holiday Inn Express-Alabaster at (205) 624-6488 to book your room at the group rate of $129/night plus taxes and fees. Block Code: AAS. To ensure this rate\, please book no later than September 23\, 2025
URL:https://clasleaders.org/event/2025-aaspa-fall-drive-in/
LOCATION:Shelby County Instructional Center\, 601 1st St. S\, Alabaster\, AL\, 35007\, United States
CATEGORIES:Affiliate Conferences and Events
ATTACH;FMTTYPE=image/png:https://clasleaders.org/wp-content/uploads/2024/08/AASPA-Fall-Drive-In-600x200-1.png
END:VEVENT
BEGIN:VEVENT
DTSTART;TZID=America/Chicago:20241025T080000
DTEND;TZID=America/Chicago:20241025T150000
DTSTAMP:20260425T142225
CREATED:20240816T163143Z
LAST-MODIFIED:20241009T195119Z
UID:10000023-1729843200-1729868400@clasleaders.org
SUMMARY:AASPA Fall Drive-In
DESCRIPTION:You do not want to miss the 2024 AASPA Fall Drive-In Conference!\nOctober 25\, 2024\nShelby County Instructional Services Center\n601 1st St. S\, Alabaster\, AL 35007\n\n\n\n\nAASPA’s Fall Drive-In Conference remains a premier event for professional learning and networking for school personnel administrators.  We know you need resources and best practices to help you succeed in the following months.  Join us October 25\, 2024\, at the Shelby County Instructional Center as we present the most up-to-date comprehensive one-day learning opportunity for Alabama Personnel Administrators!\n\n\n\n\nView Agenda\nRegister Online Now!\n  \n$70 AASPA (You must be a member AASPA through CLAS)\n$95 Non-Member Fee\nFor Room Reservations: Call the Holiday Inn Express-Alabaster at (205) 624-6488 to book your room. The group rate has expired.
URL:https://clasleaders.org/event/aaspa-fall-drive-in/
LOCATION:Shelby County Instructional Center\, 601 1st St. S\, Alabaster\, AL\, 35007\, United States
CATEGORIES:Affiliate Conferences and Events
ATTACH;FMTTYPE=image/png:https://clasleaders.org/wp-content/uploads/2024/08/AASPA-Fall-Drive-In-600x200-1.png
END:VEVENT
END:VCALENDAR