BEGIN:VCALENDAR
VERSION:2.0
PRODID:-//CLAS - ECPv6.15.20//NONSGML v1.0//EN
CALSCALE:GREGORIAN
METHOD:PUBLISH
X-WR-CALNAME:CLAS
X-ORIGINAL-URL:https://clasleaders.org
X-WR-CALDESC:Events for CLAS
REFRESH-INTERVAL;VALUE=DURATION:PT1H
X-Robots-Tag:noindex
X-PUBLISHED-TTL:PT1H
BEGIN:VTIMEZONE
TZID:America/Chicago
BEGIN:DAYLIGHT
TZOFFSETFROM:-0600
TZOFFSETTO:-0500
TZNAME:CDT
DTSTART:20240310T080000
END:DAYLIGHT
BEGIN:STANDARD
TZOFFSETFROM:-0500
TZOFFSETTO:-0600
TZNAME:CST
DTSTART:20241103T070000
END:STANDARD
BEGIN:DAYLIGHT
TZOFFSETFROM:-0600
TZOFFSETTO:-0500
TZNAME:CDT
DTSTART:20250309T080000
END:DAYLIGHT
BEGIN:STANDARD
TZOFFSETFROM:-0500
TZOFFSETTO:-0600
TZNAME:CST
DTSTART:20251102T070000
END:STANDARD
BEGIN:DAYLIGHT
TZOFFSETFROM:-0600
TZOFFSETTO:-0500
TZNAME:CDT
DTSTART:20260308T080000
END:DAYLIGHT
BEGIN:STANDARD
TZOFFSETFROM:-0500
TZOFFSETTO:-0600
TZNAME:CST
DTSTART:20261101T070000
END:STANDARD
BEGIN:DAYLIGHT
TZOFFSETFROM:-0600
TZOFFSETTO:-0500
TZNAME:CDT
DTSTART:20270314T080000
END:DAYLIGHT
BEGIN:STANDARD
TZOFFSETFROM:-0500
TZOFFSETTO:-0600
TZNAME:CST
DTSTART:20271107T070000
END:STANDARD
END:VTIMEZONE
BEGIN:VEVENT
DTSTART;TZID=America/Chicago:20260305T080000
DTEND;TZID=America/Chicago:20260305T160000
DTSTAMP:20260423T113948
CREATED:20250625T184302Z
LAST-MODIFIED:20251031T161847Z
UID:10000077-1772697600-1772726400@clasleaders.org
SUMMARY:2026 CLAS Law Conference
DESCRIPTION:March 5\, 2026\nThe CLAS Law Conference is Alabama’s premiere education law event featuring presentations on the diverse legal issues impacting school and district administrators. Join respected experts in the field of school law and learn to navigate legal encounters with much greater knowledge. Do not miss this opportunity to sharpen your legal knowledge! \nRegister Online Now!
URL:https://clasleaders.org/event/2026-clas-law-conference/
LOCATION:Montgomery Marriott Prattville Hotel & Conference Center at Capitol Hill\, 2500 Legends Circle\, Prattville\, AL\, 36066\, United States
CATEGORIES:CLAS Conferences and Events
ATTACH;FMTTYPE=image/png:https://clasleaders.org/wp-content/uploads/2024/08/CLAS-Law-600x200-1.png
END:VEVENT
BEGIN:VEVENT
DTSTART;TZID=America/Chicago:20260121T080000
DTEND;TZID=America/Chicago:20260122T150000
DTSTAMP:20260423T113948
CREATED:20250625T183356Z
LAST-MODIFIED:20251014T150802Z
UID:10000073-1768982400-1769094000@clasleaders.org
SUMMARY:2026 Assistant Principals Conference (Prattville)
DESCRIPTION:Take advantage of this highly focused two-day training designed to support the daily work and challenges of the assistant principal. Participate in engaging discussions from varied perspectives at this event designed for the novice and veteran AP. Held in three locations throughout the state\, session content delivers targeted information every assistant principal should know. Gain insightful messages from inspirational and knowledgeable speakers needed to successfully perform your job. Walk away with an expanded professional network and ideas to immediately improve your leadership practice.
URL:https://clasleaders.org/event/assistant-principals-conference-prattville-2/
LOCATION:Montgomery Marriott Prattville Hotel & Conference Center at Capitol Hill\, 2500 Legends Circle\, Prattville\, AL\, 36066\, United States
ATTACH;FMTTYPE=image/png:https://clasleaders.org/wp-content/uploads/2024/08/AP-Header-600x200-2.png
END:VEVENT
BEGIN:VEVENT
DTSTART;TZID=America/Chicago:20250909T080000
DTEND;TZID=America/Chicago:20250910T150000
DTSTAMP:20260423T113948
CREATED:20240816T180118Z
LAST-MODIFIED:20250722T183005Z
UID:10000030-1757404800-1757516400@clasleaders.org
SUMMARY:New Principals Insititute 2025
DESCRIPTION:New to the principal’s position? Connect with colleagues for this two-day event designed specifically for first- and second-year principals. With an experienced mentor at each participant table to help guide the conversation\, delve into the challenges and responsibilities of your new role. Learn up-to-date information to help you overcome the obstacles new principals encounter. Build a professional network of support and develop your capacity as a school leader by gaining new ideas and top-notch resources to make your job easier. \n 
URL:https://clasleaders.org/event/new-principals-insititute/
LOCATION:Montgomery Marriott Prattville Hotel & Conference Center at Capitol Hill\, 2500 Legends Circle\, Prattville\, AL\, 36066\, United States
CATEGORIES:CLAS Conferences and Events
ATTACH;FMTTYPE=image/png:https://clasleaders.org/wp-content/uploads/2024/08/24NewPrincpialsRhythm-600-x-200-px.png
END:VEVENT
BEGIN:VEVENT
DTSTART;TZID=America/Chicago:20250306T080000
DTEND;TZID=America/Chicago:20250306T160000
DTSTAMP:20260423T113948
CREATED:20240826T155205Z
LAST-MODIFIED:20241114T194306Z
UID:10000037-1741248000-1741276800@clasleaders.org
SUMMARY:CLAS Law Conference
DESCRIPTION:March 6\, 2025\nThe CLAS Law Conference is Alabama’s premiere education law event featuring presentations on the diverse legal issues impacting school and district administrators. Join respected experts in the field of school law and learn to navigate legal encounters with much greater knowledge. Do not miss this opportunity to sharpen your legal knowledge! \nOnline Registration Coming Soon!
URL:https://clasleaders.org/event/clas-law-conference/
LOCATION:Montgomery Marriott Prattville Hotel & Conference Center at Capitol Hill\, 2500 Legends Circle\, Prattville\, AL\, 36066\, United States
ATTACH;FMTTYPE=image/png:https://clasleaders.org/wp-content/uploads/2024/08/CLAS-Law-600x200-1.png
END:VEVENT
BEGIN:VEVENT
DTSTART;TZID=America/Chicago:20250128T080000
DTEND;TZID=America/Chicago:20250129T150000
DTSTAMP:20260423T113948
CREATED:20240819T165930Z
LAST-MODIFIED:20240910T164403Z
UID:10000035-1738051200-1738162800@clasleaders.org
SUMMARY:Assistant Principals Conference (Prattville)
DESCRIPTION:Take advantage of this highly focused two-day training designed to support the daily work and challenges of the assistant principal. Participate in engaging discussions from varied perspectives at this event designed for the novice and veteran AP. Held in three locations throughout the state\, session content delivers targeted information every assistant principal should know. Gain insightful messages from inspirational and knowledgeable speakers needed to successfully perform your job. Walk away with an expanded professional network and ideas to immediately improve your leadership practice. \nParticipation in this conference will serve as one Phase I activity for PLUACLD1259.
URL:https://clasleaders.org/event/assistant-principals-conference-prattville/
LOCATION:Montgomery Marriott Prattville Hotel & Conference Center at Capitol Hill\, 2500 Legends Circle\, Prattville\, AL\, 36066\, United States
ATTACH;FMTTYPE=image/png:https://clasleaders.org/wp-content/uploads/2024/08/AP-Header-600x200-2.png
END:VEVENT
END:VCALENDAR