BEGIN:VCALENDAR
VERSION:2.0
PRODID:-//CLAS - ECPv6.15.20//NONSGML v1.0//EN
CALSCALE:GREGORIAN
METHOD:PUBLISH
X-WR-CALNAME:CLAS
X-ORIGINAL-URL:https://clasleaders.org
X-WR-CALDESC:Events for CLAS
REFRESH-INTERVAL;VALUE=DURATION:PT1H
X-Robots-Tag:noindex
X-PUBLISHED-TTL:PT1H
BEGIN:VTIMEZONE
TZID:America/Chicago
BEGIN:DAYLIGHT
TZOFFSETFROM:-0600
TZOFFSETTO:-0500
TZNAME:CDT
DTSTART:20240310T080000
END:DAYLIGHT
BEGIN:STANDARD
TZOFFSETFROM:-0500
TZOFFSETTO:-0600
TZNAME:CST
DTSTART:20241103T070000
END:STANDARD
BEGIN:DAYLIGHT
TZOFFSETFROM:-0600
TZOFFSETTO:-0500
TZNAME:CDT
DTSTART:20250309T080000
END:DAYLIGHT
BEGIN:STANDARD
TZOFFSETFROM:-0500
TZOFFSETTO:-0600
TZNAME:CST
DTSTART:20251102T070000
END:STANDARD
BEGIN:DAYLIGHT
TZOFFSETFROM:-0600
TZOFFSETTO:-0500
TZNAME:CDT
DTSTART:20260308T080000
END:DAYLIGHT
BEGIN:STANDARD
TZOFFSETFROM:-0500
TZOFFSETTO:-0600
TZNAME:CST
DTSTART:20261101T070000
END:STANDARD
END:VTIMEZONE
BEGIN:VEVENT
DTSTART;TZID=America/Chicago:20251116T150000
DTEND;TZID=America/Chicago:20251119T100000
DTSTAMP:20260425T092753
CREATED:20250624T193114Z
LAST-MODIFIED:20250820T204419Z
UID:10000068-1763305200-1763546400@clasleaders.org
SUMMARY:2025 AAESA Fall Instructional Leadership Conference
DESCRIPTION:AAESA Fall Instructional Leadership Conference\nJoin the Alabama Association of Elementary School Administrators (AAESA) to learn\, collaborate\, and become a creative visionary. Gain insight from experienced and knowledgeable presenters and learn to drive innovation in your organization.  Return to work with motivation to envision the path that leads to great ideas becoming realities. \n\n\n\n\nPre-Registration\ndeadline Oct 12\nRegistration\nOct. 13 – Nov. 14\nOnsite\nAfter Nov. 14\n\n\nMember\n$275\n$300\n$320\n\n\nMember + Pre-Conference\n$325\n$350\n$370\n\n\nNon-Member\n$375\n$420\n$450\n\n\nNon-Member + Pre-Conference\n$425\n$470\n$495\n\n\nRetiree/Guest\n$150\n$150\n$150\n\n\n\nOnline Registration Coming Soon!\nSpecial Pre-Conference Session\nSunday\, November 16\, 2025\, from 3:00 – 5:00 pm.\nTitle and Description Coming Soon! \nBundle with your conference registration\, or register for just the pre-conference session. \n\n\n\n\nPre-Conference Only\nAdd Pre-Conference to\nConference Registration\n\n\nPre-Conference\n$75\n$50\n\n\n\n  \nROOM RESERVATIONS: Call the Perdido Beach Resort at (800) 634-8001 and ask for the “2025 AAESA Fall Instructional Leadership Conference” group rate of $132/night plus taxes/fees or book online here with booking ID# 20224. To ensure this rate\, please book no later than Friday\, October 16\, 2025. \nCANCELLATIONS:  Please be informed that no refunds will be granted after November 9\, 2025. Our commitment to delivering a successful event requires us to guarantee resources such as food\, meeting space\, and other resources in advance. If you do not attend the event or fail to cancel by the appointed date\, you will be held responsible for the full event registration.  We understand unforeseen circumstances can arise and advise you to contact us at events@clasleaders.org as soon as possible in the event you are unable to attend. \n\nEXHIBITORS!\nYou are invited to exhibit at the AAESA Fall Instructional Conference! Don’t miss this opportunity to show and sell your products to Alabama school personnel! \nComing Soon!
URL:https://clasleaders.org/event/2025-aaesa-fall-instructional-leadership-conference/
LOCATION:Perdido Beach Resort\, 27200 Perdido Beach Blvd\, Orange Beach\, AL\, 36561\, United States
CATEGORIES:Affiliate Conferences and Events
ATTACH;FMTTYPE=image/jpeg:https://clasleaders.org/wp-content/uploads/2025/08/AAESA-2025-Email-Header-600-x-200-px.jpg
END:VEVENT
END:VCALENDAR