BEGIN:VCALENDAR
VERSION:2.0
PRODID:-//CLAS - ECPv6.15.20//NONSGML v1.0//EN
CALSCALE:GREGORIAN
METHOD:PUBLISH
X-WR-CALNAME:CLAS
X-ORIGINAL-URL:https://clasleaders.org
X-WR-CALDESC:Events for CLAS
REFRESH-INTERVAL;VALUE=DURATION:PT1H
X-Robots-Tag:noindex
X-PUBLISHED-TTL:PT1H
BEGIN:VTIMEZONE
TZID:America/Chicago
BEGIN:DAYLIGHT
TZOFFSETFROM:-0600
TZOFFSETTO:-0500
TZNAME:CDT
DTSTART:20230312T080000
END:DAYLIGHT
BEGIN:STANDARD
TZOFFSETFROM:-0500
TZOFFSETTO:-0600
TZNAME:CST
DTSTART:20231105T070000
END:STANDARD
BEGIN:DAYLIGHT
TZOFFSETFROM:-0600
TZOFFSETTO:-0500
TZNAME:CDT
DTSTART:20240310T080000
END:DAYLIGHT
BEGIN:STANDARD
TZOFFSETFROM:-0500
TZOFFSETTO:-0600
TZNAME:CST
DTSTART:20241103T070000
END:STANDARD
BEGIN:DAYLIGHT
TZOFFSETFROM:-0600
TZOFFSETTO:-0500
TZNAME:CDT
DTSTART:20250309T080000
END:DAYLIGHT
BEGIN:STANDARD
TZOFFSETFROM:-0500
TZOFFSETTO:-0600
TZNAME:CST
DTSTART:20251102T070000
END:STANDARD
BEGIN:DAYLIGHT
TZOFFSETFROM:-0600
TZOFFSETTO:-0500
TZNAME:CDT
DTSTART:20260308T080000
END:DAYLIGHT
BEGIN:STANDARD
TZOFFSETFROM:-0500
TZOFFSETTO:-0600
TZNAME:CST
DTSTART:20261101T070000
END:STANDARD
END:VTIMEZONE
BEGIN:VEVENT
DTSTART;TZID=America/Chicago:20250608T130000
DTEND;TZID=America/Chicago:20250611T100000
DTSTAMP:20260424T183021
CREATED:20241120T224829Z
LAST-MODIFIED:20241120T224921Z
UID:10000047-1749387600-1749636000@clasleaders.org
SUMMARY:2025 CLAS Convention
DESCRIPTION:2025 CLAS Convention\nVisit the Convention website for more details.hool
URL:https://clasleaders.org/event/2025-clas-convention/
LOCATION:Mobile Convention Center\, 1 S Water St\, Mobile\, AL\, 36602\, United States
CATEGORIES:CLAS Conferences and Events
ATTACH;FMTTYPE=image/jpeg:https://clasleaders.org/wp-content/uploads/2024/11/Convention-Header-for-Website-2025.jpg
ORGANIZER;CN="CLAS":MAILTO:events@clasleaders.org
END:VEVENT
BEGIN:VEVENT
DTSTART;TZID=America/Chicago:20240904T080000
DTEND;TZID=America/Chicago:20250305T170000
DTSTAMP:20260424T183021
CREATED:20240723T172727Z
LAST-MODIFIED:20240904T151028Z
UID:10000005-1725436800-1741194000@clasleaders.org
SUMMARY:Rhodes Branding Webinar Series
DESCRIPTION:Rhodes Branding Webinar Series\n\n\nJoin us for a groundbreaking webinar series tailored specifically for Alabama school leaders seeking to elevate their leadership skills and amplify their school’s brand. In partnership with CLAS and Rhodes Branding\, this series offers a unique opportunity to delve into the strategic aspects of branding\, marketing\, and engagement in an educational context. \n\n\nRegistration Fee: $50 (Available ONLY to Active CLAS Members) – Exclusive Professional Learning Program for CLAS Members – PLUACLD1253\n \n\n\nIt’s Your Brand – Own It (September 4\, 9-10 am)\nGenerational Hiring in the K-12 Sector (October 2\, 9-10 am)\nLeveraging Authentic Narratives & Competitive Storytelling (November 6\, 9-10 am)\nHow to Build Your Personal Brand to Amplify K-12 Success (January 15\, 9-10 am)\nWhat Can K-12 Recruiters Learn from the World’s Biggest Brands? (February 5\, 9-10 am)\nAligning School PR & Marketing to Drive Results (March 5\, 9-10 am)\n\n\n\n\n\n\nRecordings will be available following each session. Recordings can be used in place of the live event for credit toward the PLU.
URL:https://clasleaders.org/event/rhodes-branding-webinar-series/
LOCATION:AL
CATEGORIES:CLAS Conferences and Events,Webinars and Webcasts
ATTACH;FMTTYPE=image/png:https://clasleaders.org/wp-content/uploads/2024/07/RB-Logo-1.png
ORGANIZER;CN="CLAS":MAILTO:events@clasleaders.org
END:VEVENT
END:VCALENDAR