BEGIN:VCALENDAR
VERSION:2.0
PRODID:-//CLAS - ECPv6.15.20//NONSGML v1.0//EN
CALSCALE:GREGORIAN
METHOD:PUBLISH
X-WR-CALNAME:CLAS
X-ORIGINAL-URL:https://clasleaders.org
X-WR-CALDESC:Events for CLAS
REFRESH-INTERVAL;VALUE=DURATION:PT1H
X-Robots-Tag:noindex
X-PUBLISHED-TTL:PT1H
BEGIN:VTIMEZONE
TZID:America/Chicago
BEGIN:DAYLIGHT
TZOFFSETFROM:-0600
TZOFFSETTO:-0500
TZNAME:CDT
DTSTART:20250309T080000
END:DAYLIGHT
BEGIN:STANDARD
TZOFFSETFROM:-0500
TZOFFSETTO:-0600
TZNAME:CST
DTSTART:20251102T070000
END:STANDARD
BEGIN:DAYLIGHT
TZOFFSETFROM:-0600
TZOFFSETTO:-0500
TZNAME:CDT
DTSTART:20260308T080000
END:DAYLIGHT
BEGIN:STANDARD
TZOFFSETFROM:-0500
TZOFFSETTO:-0600
TZNAME:CST
DTSTART:20261101T070000
END:STANDARD
BEGIN:DAYLIGHT
TZOFFSETFROM:-0600
TZOFFSETTO:-0500
TZNAME:CDT
DTSTART:20270314T080000
END:DAYLIGHT
BEGIN:STANDARD
TZOFFSETFROM:-0500
TZOFFSETTO:-0600
TZNAME:CST
DTSTART:20271107T070000
END:STANDARD
END:VTIMEZONE
BEGIN:VEVENT
DTSTART;TZID=America/Chicago:20260128T080000
DTEND;TZID=America/Chicago:20260129T150000
DTSTAMP:20260421T205113
CREATED:20250625T183508Z
LAST-MODIFIED:20251014T151158Z
UID:10000074-1769587200-1769698800@clasleaders.org
SUMMARY:2026 Assistant Principals Conference (Orange Beach)
DESCRIPTION:Take advantage of this highly focused two-day training designed to support the daily work and challenges of the assistant principal. Participate in engaging discussions from varied perspectives at this event designed for the novice and veteran AP. Held in three locations throughout the state\, session content delivers targeted information every assistant principal should know. Gain insightful messages from inspirational and knowledgeable speakers needed to successfully perform your job. Walk away with an expanded professional network and ideas to immediately improve your leadership practice.
URL:https://clasleaders.org/event/2026-assistant-principals-conference-orange-beach/
LOCATION:Perdido Beach Resort\, 27200 Perdido Beach Blvd\, Orange Beach\, AL\, 36561\, United States
CATEGORIES:CLAS Conferences and Events
ATTACH;FMTTYPE=image/png:https://clasleaders.org/wp-content/uploads/2024/08/AP-Header-600x200-2.png
END:VEVENT
BEGIN:VEVENT
DTSTART;TZID=America/Chicago:20260203T090000
DTEND;TZID=America/Chicago:20260205T143000
DTSTAMP:20260421T205113
CREATED:20250625T182259Z
LAST-MODIFIED:20260114T190327Z
UID:10000071-1770109200-1770301800@clasleaders.org
SUMMARY:2026 February Leadership Institute: Current Hot Topics in Special Education Law
DESCRIPTION:Current Hot Topics in Special Education Law \nPresented by: Julie Weatherly\n9:00 a.m. – 2:30 p.m. \n(Lunch on your own 11:00 – 12:30) \nSign-In begins at 8:00 a.m. \nWith major developments unfolding at the federal level\, there’s no better time to dive into the latest legal issues impacting special education. Join nationally recognized attorney Julie Weatherly\, Esq. for an insightful Institute focused on today’s most pressing special education legal “hot topics.” \nThis training will provide: \n\nA timely update on federal agency actions influencing special education policy\nA review of significant court decisions under IDEA and Section 504\nPractical insights to help you navigate the ever-evolving legal landscape\n\nDon’t miss this opportunity to stay informed and empowered. \nAll Leadership Institutes are in-person events only. No virtual participation available.\n  \nFREE for Leadership Institute System Subscribers!\n  \nCLAS offers system subscriptions for the Leadership Institute series to school systems. If your system is a paid subscriber\, any school system employee can attend at no charge. Non-system subscribers and non-members may attend for a fee. Attendees may earn credit toward a PLU or receive a certificate toward clock hours. \n\n\n\nNot a Subscriber/Member of CLAS\n$80\n\n\nNot a Subscriber/Not a Member of CLAS\n$250\n\n\nDistrict Subscriber of Leadership Institute Series\n$0\n\n\n\n  \nSpecial accommodation requests must be submitted to the CLAS Professional Learning office 30 days in advance of the event. Email requests to pd@clasleaders.org.
URL:https://clasleaders.org/event/2026-february-leadership-institute-current-hot-topics-in-special-education-law/
CATEGORIES:CLAS Conferences and Events,Leadership Institute
ATTACH;FMTTYPE=image/png:https://clasleaders.org/wp-content/uploads/2025/05/2025-2026LIEmailHeader.png
ORGANIZER;CN="CLAS":MAILTO:events@clasleaders.org
END:VEVENT
BEGIN:VEVENT
DTSTART;TZID=America/Chicago:20260209T080000
DTEND;TZID=America/Chicago:20260210T150000
DTSTAMP:20260421T205113
CREATED:20250625T183723Z
LAST-MODIFIED:20251014T150013Z
UID:10000075-1770624000-1770735600@clasleaders.org
SUMMARY:2026 Assistant Principals Conference (Florence)
DESCRIPTION:Take advantage of this highly focused two-day training designed to support the daily work and challenges of the assistant principal. Participate in engaging discussions from varied perspectives at this event designed for the novice and veteran AP. Held in three locations throughout the state\, session content delivers targeted information every assistant principal should know. Gain insightful messages from inspirational and knowledgeable speakers needed to successfully perform your job. Walk away with an expanded professional network and ideas to immediately improve your leadership practice.
URL:https://clasleaders.org/event/2026-assistant-principals-conference-florence/
LOCATION:Renaissance Shoals Resort & Spa\, 10 Hightower Pl\, Florence\, 35630\, United States
CATEGORIES:CLAS Conferences and Events
ATTACH;FMTTYPE=image/png:https://clasleaders.org/wp-content/uploads/2024/08/AP-Header-600x200-2.png
END:VEVENT
BEGIN:VEVENT
DTSTART;TZID=America/Chicago:20260305T080000
DTEND;TZID=America/Chicago:20260305T160000
DTSTAMP:20260421T205113
CREATED:20250625T184302Z
LAST-MODIFIED:20251031T161847Z
UID:10000077-1772697600-1772726400@clasleaders.org
SUMMARY:2026 CLAS Law Conference
DESCRIPTION:March 5\, 2026\nThe CLAS Law Conference is Alabama’s premiere education law event featuring presentations on the diverse legal issues impacting school and district administrators. Join respected experts in the field of school law and learn to navigate legal encounters with much greater knowledge. Do not miss this opportunity to sharpen your legal knowledge! \nRegister Online Now!
URL:https://clasleaders.org/event/2026-clas-law-conference/
LOCATION:Montgomery Marriott Prattville Hotel & Conference Center at Capitol Hill\, 2500 Legends Circle\, Prattville\, AL\, 36066\, United States
CATEGORIES:CLAS Conferences and Events
ATTACH;FMTTYPE=image/png:https://clasleaders.org/wp-content/uploads/2024/08/CLAS-Law-600x200-1.png
END:VEVENT
BEGIN:VEVENT
DTSTART;TZID=America/Chicago:20260305T080000
DTEND;TZID=America/Chicago:20261130T170000
DTSTAMP:20260421T205113
CREATED:20260306T201447Z
LAST-MODIFIED:20260306T202624Z
UID:10000099-1772697600-1796058000@clasleaders.org
SUMMARY:2026 Law Conference Webcast
DESCRIPTION:Non-Member Fee: $498\nPlease note that the CLAS office will provide access information and technical support during normal business hours. Access links will not be sent until payment-in-full has been received\, or a copy of a valid and signed purchase order has been received. Please allow 1 week for access instructions. Payment information may be provided to admin@clasleaders.org or by faxing to (334) 265-3611 to the attention of Anita Reid. \nInformation presented in this webcast is current as of March 5\, 2026. 
URL:https://clasleaders.org/event/2026-law-conference-webcast/
LOCATION:Virtual
CATEGORIES:CLAS Conferences and Events,Webinars and Webcasts
ATTACH;FMTTYPE=image/png:https://clasleaders.org/wp-content/uploads/2024/07/Law-Webcast-600x200-1.png
END:VEVENT
BEGIN:VEVENT
DTSTART;TZID=America/Chicago:20260310T090000
DTEND;TZID=America/Chicago:20260312T143000
DTSTAMP:20260421T205113
CREATED:20250804T155522Z
LAST-MODIFIED:20260227T192040Z
UID:10000091-1773133200-1773325800@clasleaders.org
SUMMARY:2026 March Leadership Institute: Coaching for Engagement and Positive Classrooms: Creating Conditions for Motivation and Learning
DESCRIPTION:Coaching for Engagement and Positive Classrooms: Creating Conditions for Motivation and Learning\nPresented by: Jennifer Hlavka\n9:00 a.m. – 2:30 p.m. \n(Lunch on your own 11:00 – 12:30) \nSign-In begins at 8:00 a.m. \nIn this energizing and high-impact session\, participants will explore Jim Knight and the Instructional Coaching Group’s research on coaching for engagement and positive classroom environments to help teachers build learning spaces where all students feel safe\, motivated\, and connected. Participants will examine the different types of student engagement—behavioral\, emotional\, and cognitive—and how to measure them\, while identifying teaching strategies that promote a culture of psychological safety and belonging. Leave with clear\, practical tools for supporting teachers in using evidence-based strategies that boost motivation and foster classroom climates that drive meaningful learning. \n\n\n\nMarch 10\, 2025 \nEmbassy Suites\nHoover\, AL\nMarch 11\, 2025\n\nMarriott Legends\nPrattville\, AL\nMarch 12\, 2025 \nMarch 12\, 2026\nSouth AL Research & Inservice Center\nMobile\, AL\n\n\n\n\nFREE for Leadership Institute System Subscribers!\nNo Recording will be made for this event!\n  \nCLAS offers system subscriptions for the Leadership Institute series to school systems. If your system is a paid subscriber\, any school system employee can attend at no charge. Non-system subscribers and non-members may attend for a fee. Attendees may earn credit toward a PLU or receive a certificate toward clock hours. \n\n\n\nNot a Subscriber/Member of CLAS\n$80\n\n\nNot a Subscriber/Not a Member of CLAS\n$250\n\n\nDistrict Subscriber of Leadership Institute Series\n$0\n\n\n\n  \nSpecial accommodation requests must be submitted to the CLAS Professional Learning office 30 days in advance of the event. Email requests to pd@clasleaders.org.
URL:https://clasleaders.org/event/2026-march-leadership-institute-coaching-for-engagement-and-positive-classrooms-creating-conditions-for-motivation-and-learning/
CATEGORIES:CLAS Conferences and Events,Leadership Institute
ATTACH;FMTTYPE=image/png:https://clasleaders.org/wp-content/uploads/2025/07/2025-2026LIEmailHeader.png
ORGANIZER;CN="CLAS":MAILTO:events@clasleaders.org
END:VEVENT
BEGIN:VEVENT
DTSTART;TZID=America/Chicago:20260407T090000
DTEND;TZID=America/Chicago:20260409T143000
DTSTAMP:20260421T205113
CREATED:20250626T151806Z
LAST-MODIFIED:20260115T204648Z
UID:10000079-1775552400-1775745000@clasleaders.org
SUMMARY:2026 April Leadership Institute: CONNECT: A Dynamic Way to Synergize in a School Culture
DESCRIPTION:CONNECT: A Dynamic Way to Synergize in a School Culture  \nPresented by: Paige Abner\nCreating optimal time for PLCs within a school day can be challenging. CONNECT is the perfect way to incorporate various opportunities for students while providing valuable collaboration time for teachers and staff. Learn to incorporate time in the school day to provide students an opportunity to learn from valuable speakers and community members while providing them with guidance and leadership skills needed for the future. Peer helper lessons\, “A-Day” audits\, and “Spirit Days” are examples of ideas Paige Abner will discuss that can be included in your school’s programing.
URL:https://clasleaders.org/event/2026-april-leadership-institute-connect-a-dynamic-way-to-synergize-in-a-school-culture/
CATEGORIES:CLAS Conferences and Events,Leadership Institute
ATTACH;FMTTYPE=image/png:https://clasleaders.org/wp-content/uploads/2025/05/2025-2026LIEmailHeader.png
ORGANIZER;CN="CLAS":MAILTO:events@clasleaders.org
END:VEVENT
BEGIN:VEVENT
DTSTART;TZID=America/Chicago:20260614T130000
DTEND;TZID=America/Chicago:20260617T100000
DTSTAMP:20260421T205113
CREATED:20251210T195309Z
LAST-MODIFIED:20251210T195457Z
UID:10000097-1781442000-1781690400@clasleaders.org
SUMMARY:2026 CLAS Convention
DESCRIPTION:2026 CLAS Convention\nVisit the Convention website for more details.
URL:https://clasleaders.org/event/2026-clas-convention-2/
LOCATION:Mobile Convention Center\, 1 S Water St\, Mobile\, AL\, 36602\, United States
CATEGORIES:CLAS Conferences and Events
ATTACH;FMTTYPE=image/png:https://clasleaders.org/wp-content/uploads/2025/12/2026-CLAS-Convention-Email-Header.png
ORGANIZER;CN="CLAS":MAILTO:events@clasleaders.org
END:VEVENT
END:VCALENDAR