BEGIN:VCALENDAR
VERSION:2.0
PRODID:-//CLAS - ECPv6.15.20//NONSGML v1.0//EN
CALSCALE:GREGORIAN
METHOD:PUBLISH
X-WR-CALNAME:CLAS
X-ORIGINAL-URL:https://clasleaders.org
X-WR-CALDESC:Events for CLAS
REFRESH-INTERVAL;VALUE=DURATION:PT1H
X-Robots-Tag:noindex
X-PUBLISHED-TTL:PT1H
BEGIN:VTIMEZONE
TZID:America/Chicago
BEGIN:DAYLIGHT
TZOFFSETFROM:-0600
TZOFFSETTO:-0500
TZNAME:CDT
DTSTART:20250309T080000
END:DAYLIGHT
BEGIN:STANDARD
TZOFFSETFROM:-0500
TZOFFSETTO:-0600
TZNAME:CST
DTSTART:20251102T070000
END:STANDARD
BEGIN:DAYLIGHT
TZOFFSETFROM:-0600
TZOFFSETTO:-0500
TZNAME:CDT
DTSTART:20260308T080000
END:DAYLIGHT
BEGIN:STANDARD
TZOFFSETFROM:-0500
TZOFFSETTO:-0600
TZNAME:CST
DTSTART:20261101T070000
END:STANDARD
BEGIN:DAYLIGHT
TZOFFSETFROM:-0600
TZOFFSETTO:-0500
TZNAME:CDT
DTSTART:20270314T080000
END:DAYLIGHT
BEGIN:STANDARD
TZOFFSETFROM:-0500
TZOFFSETTO:-0600
TZNAME:CST
DTSTART:20271107T070000
END:STANDARD
BEGIN:DAYLIGHT
TZOFFSETFROM:-0600
TZOFFSETTO:-0500
TZNAME:CDT
DTSTART:20280312T080000
END:DAYLIGHT
BEGIN:STANDARD
TZOFFSETFROM:-0500
TZOFFSETTO:-0600
TZNAME:CST
DTSTART:20281105T070000
END:STANDARD
END:VTIMEZONE
BEGIN:VEVENT
DTSTART;TZID=America/Chicago:20261001T080000
DTEND;TZID=America/Chicago:20270505T160000
DTSTAMP:20260423T190517
CREATED:20260422T212036Z
LAST-MODIFIED:20260423T173904Z
UID:10000112-1790841600-1809532800@clasleaders.org
SUMMARY:2026-2027 Aspiring School Leaders Academy
DESCRIPTION:Ready to move to the next level? The year-long Aspiring School Leaders Academy\, led by faculty and staff from the University of Alabama and Auburn University\, is designed to support aspiring school leaders in attaining the essential skills and practice needed to advance to the next level of leadership. Join this cohort and gain knowledge of the unique characteristics and comprehensive dimensions of the principalship. The Academy is composed of 2 in-person and 4 virtual meetings from October 2026 to May 2027. \nQuestions? Email demica@clasleaders.org. \nProgram participation is limited to the first 75 participants for Aspiring Leaders! \nThis Professional Learning opportunity is not applicable for Principals or Assistant Principals! \n\n\n\nType\nFee\n\n\nMember\n$210\n\n\nNon-Member\n$315\n\n\n\n  \nRegistration Coming Soon!
URL:https://clasleaders.org/event/2026-2027-aspiring-school-leaders-academy/
LOCATION:AL
CATEGORIES:CLAS Conferences and Events
ATTACH;FMTTYPE=image/png:https://clasleaders.org/wp-content/uploads/2024/07/24Aspiring-School-Leaders-Academy-600x200-1.png
END:VEVENT
END:VCALENDAR