BEGIN:VCALENDAR
VERSION:2.0
PRODID:-//CLAS - ECPv6.15.20//NONSGML v1.0//EN
CALSCALE:GREGORIAN
METHOD:PUBLISH
X-ORIGINAL-URL:https://clasleaders.org
X-WR-CALDESC:Events for CLAS
REFRESH-INTERVAL;VALUE=DURATION:PT1H
X-Robots-Tag:noindex
X-PUBLISHED-TTL:PT1H
BEGIN:VTIMEZONE
TZID:America/Chicago
BEGIN:DAYLIGHT
TZOFFSETFROM:-0600
TZOFFSETTO:-0500
TZNAME:CDT
DTSTART:20240310T080000
END:DAYLIGHT
BEGIN:STANDARD
TZOFFSETFROM:-0500
TZOFFSETTO:-0600
TZNAME:CST
DTSTART:20241103T070000
END:STANDARD
BEGIN:DAYLIGHT
TZOFFSETFROM:-0600
TZOFFSETTO:-0500
TZNAME:CDT
DTSTART:20250309T080000
END:DAYLIGHT
BEGIN:STANDARD
TZOFFSETFROM:-0500
TZOFFSETTO:-0600
TZNAME:CST
DTSTART:20251102T070000
END:STANDARD
BEGIN:DAYLIGHT
TZOFFSETFROM:-0600
TZOFFSETTO:-0500
TZNAME:CDT
DTSTART:20260308T080000
END:DAYLIGHT
BEGIN:STANDARD
TZOFFSETFROM:-0500
TZOFFSETTO:-0600
TZNAME:CST
DTSTART:20261101T070000
END:STANDARD
END:VTIMEZONE
BEGIN:VEVENT
DTSTART;TZID=America/Chicago:20251202T080000
DTEND;TZID=America/Chicago:20251203T133000
DTSTAMP:20260421T173845
CREATED:20250625T142237Z
LAST-MODIFIED:20250820T172538Z
UID:10000069-1764662400-1764768600@clasleaders.org
SUMMARY:2025 Secretaries Conference
DESCRIPTION:CLAS Secretaries and Bookkeepers Conference\nPerdido Beach Resort\n27200 Perdido Beach Blvd\, Orange Beach\, AL 36561\nOne of Alabama’s only professional learning opportunities for school and district secretaries and bookkeepers\, the 33rd Annual Secretaries Conference is a gathering not to be missed. Tasked with providing administrative support in many school and district aspects\, secretaries and bookkeepers will find opportunities to sharpen skills and provide continued motivation among everyday responsibilities. Gain unique tools and knowledge in the pre-conference (TBD). Join CLAS for this annual event promising timely information and an unforgettable experience. \n  \n 
URL:https://clasleaders.org/event/2025secretaries-conference/
LOCATION:Perdido Beach Resort\, 27200 Perdido Beach Blvd\, Orange Beach\, AL\, 36561\, United States
CATEGORIES:CLAS Conferences and Events
ATTACH;FMTTYPE=image/png:https://clasleaders.org/wp-content/uploads/2025/06/25-SecConf-600x200-px.png
ORGANIZER;CN="CLAS":MAILTO:events@clasleaders.org
END:VEVENT
END:VCALENDAR