BEGIN:VCALENDAR
VERSION:2.0
PRODID:-//CLAS - ECPv6.15.20//NONSGML v1.0//EN
CALSCALE:GREGORIAN
METHOD:PUBLISH
X-WR-CALNAME:CLAS
X-ORIGINAL-URL:https://clasleaders.org
X-WR-CALDESC:Events for CLAS
REFRESH-INTERVAL;VALUE=DURATION:PT1H
X-Robots-Tag:noindex
X-PUBLISHED-TTL:PT1H
BEGIN:VTIMEZONE
TZID:America/Chicago
BEGIN:DAYLIGHT
TZOFFSETFROM:-0600
TZOFFSETTO:-0500
TZNAME:CDT
DTSTART:20240310T080000
END:DAYLIGHT
BEGIN:STANDARD
TZOFFSETFROM:-0500
TZOFFSETTO:-0600
TZNAME:CST
DTSTART:20241103T070000
END:STANDARD
BEGIN:DAYLIGHT
TZOFFSETFROM:-0600
TZOFFSETTO:-0500
TZNAME:CDT
DTSTART:20250309T080000
END:DAYLIGHT
BEGIN:STANDARD
TZOFFSETFROM:-0500
TZOFFSETTO:-0600
TZNAME:CST
DTSTART:20251102T070000
END:STANDARD
BEGIN:DAYLIGHT
TZOFFSETFROM:-0600
TZOFFSETTO:-0500
TZNAME:CDT
DTSTART:20260308T080000
END:DAYLIGHT
BEGIN:STANDARD
TZOFFSETFROM:-0500
TZOFFSETTO:-0600
TZNAME:CST
DTSTART:20261101T070000
END:STANDARD
END:VTIMEZONE
BEGIN:VEVENT
DTSTART;TZID=America/Chicago:20250909T080000
DTEND;TZID=America/Chicago:20250910T150000
DTSTAMP:20260421T222943
CREATED:20240816T180118Z
LAST-MODIFIED:20250722T183005Z
UID:10000030-1757404800-1757516400@clasleaders.org
SUMMARY:New Principals Insititute 2025
DESCRIPTION:New to the principal’s position? Connect with colleagues for this two-day event designed specifically for first- and second-year principals. With an experienced mentor at each participant table to help guide the conversation\, delve into the challenges and responsibilities of your new role. Learn up-to-date information to help you overcome the obstacles new principals encounter. Build a professional network of support and develop your capacity as a school leader by gaining new ideas and top-notch resources to make your job easier. \n 
URL:https://clasleaders.org/event/new-principals-insititute/
LOCATION:Montgomery Marriott Prattville Hotel & Conference Center at Capitol Hill\, 2500 Legends Circle\, Prattville\, AL\, 36066\, United States
CATEGORIES:CLAS Conferences and Events
ATTACH;FMTTYPE=image/png:https://clasleaders.org/wp-content/uploads/2024/08/24NewPrincpialsRhythm-600-x-200-px.png
END:VEVENT
END:VCALENDAR