BEGIN:VCALENDAR
VERSION:2.0
PRODID:-//CLAS - ECPv6.15.20//NONSGML v1.0//EN
CALSCALE:GREGORIAN
METHOD:PUBLISH
X-ORIGINAL-URL:https://clasleaders.org
X-WR-CALDESC:Events for CLAS
REFRESH-INTERVAL;VALUE=DURATION:PT1H
X-Robots-Tag:noindex
X-PUBLISHED-TTL:PT1H
BEGIN:VTIMEZONE
TZID:America/Chicago
BEGIN:DAYLIGHT
TZOFFSETFROM:-0600
TZOFFSETTO:-0500
TZNAME:CDT
DTSTART:20240310T080000
END:DAYLIGHT
BEGIN:STANDARD
TZOFFSETFROM:-0500
TZOFFSETTO:-0600
TZNAME:CST
DTSTART:20241103T070000
END:STANDARD
BEGIN:DAYLIGHT
TZOFFSETFROM:-0600
TZOFFSETTO:-0500
TZNAME:CDT
DTSTART:20250309T080000
END:DAYLIGHT
BEGIN:STANDARD
TZOFFSETFROM:-0500
TZOFFSETTO:-0600
TZNAME:CST
DTSTART:20251102T070000
END:STANDARD
BEGIN:DAYLIGHT
TZOFFSETFROM:-0600
TZOFFSETTO:-0500
TZNAME:CDT
DTSTART:20260308T080000
END:DAYLIGHT
BEGIN:STANDARD
TZOFFSETFROM:-0500
TZOFFSETTO:-0600
TZNAME:CST
DTSTART:20261101T070000
END:STANDARD
END:VTIMEZONE
BEGIN:VEVENT
DTSTART;TZID=America/Chicago:20251015T090000
DTEND;TZID=America/Chicago:20251017T143000
DTSTAMP:20260421T191214
CREATED:20250604T191411Z
LAST-MODIFIED:20250605T194549Z
UID:10000058-1760518800-1760711400@clasleaders.org
SUMMARY:2025 October Leadership Institute: Culture Matters
DESCRIPTION:Culture Matters\nPresented by: Todd Nesloney\nFREE for Leadership Institute System Subscribers!\nCLAS offers system subscriptions for the Leadership Institute series to school systems. If your system is a paid subscriber\, any school system employee can attend at no charge. Non-system subscribers and non-members may attend for a fee. Attendees may earn credit toward a PLU or receive a certificate toward clock hours. \n\n\n\nNot a Subscriber/Member of CLAS\n$80\n\n\nNot a Subscriber/Not a Member of CLAS\n$250\n\n\nDistrict Subscriber of Leadership Institute Series\n$0\n\n\n\n  \nSpecial accommodation requests must be submitted to the CLAS Professional Learning office 30 days in advance of the event. Email requests to pd@clasleaders.org.
URL:https://clasleaders.org/event/2025-october-leadership-institute-culture-matters/
CATEGORIES:CLAS Conferences and Events,Leadership Institute
ATTACH;FMTTYPE=image/png:https://clasleaders.org/wp-content/uploads/2025/05/2025-2026LIEmailHeader.png
ORGANIZER;CN="CLAS":MAILTO:events@clasleaders.org
END:VEVENT
END:VCALENDAR