BEGIN:VCALENDAR
VERSION:2.0
PRODID:-//CLAS - ECPv6.15.20//NONSGML v1.0//EN
CALSCALE:GREGORIAN
METHOD:PUBLISH
X-WR-CALNAME:CLAS
X-ORIGINAL-URL:https://clasleaders.org
X-WR-CALDESC:Events for CLAS
REFRESH-INTERVAL;VALUE=DURATION:PT1H
X-Robots-Tag:noindex
X-PUBLISHED-TTL:PT1H
BEGIN:VTIMEZONE
TZID:America/Chicago
BEGIN:DAYLIGHT
TZOFFSETFROM:-0600
TZOFFSETTO:-0500
TZNAME:CDT
DTSTART:20250309T080000
END:DAYLIGHT
BEGIN:STANDARD
TZOFFSETFROM:-0500
TZOFFSETTO:-0600
TZNAME:CST
DTSTART:20251102T070000
END:STANDARD
BEGIN:DAYLIGHT
TZOFFSETFROM:-0600
TZOFFSETTO:-0500
TZNAME:CDT
DTSTART:20260308T080000
END:DAYLIGHT
BEGIN:STANDARD
TZOFFSETFROM:-0500
TZOFFSETTO:-0600
TZNAME:CST
DTSTART:20261101T070000
END:STANDARD
BEGIN:DAYLIGHT
TZOFFSETFROM:-0600
TZOFFSETTO:-0500
TZNAME:CDT
DTSTART:20270314T080000
END:DAYLIGHT
BEGIN:STANDARD
TZOFFSETFROM:-0500
TZOFFSETTO:-0600
TZNAME:CST
DTSTART:20271107T070000
END:STANDARD
END:VTIMEZONE
BEGIN:VEVENT
DTSTART;TZID=America/Chicago:20260421T130000
DTEND;TZID=America/Chicago:20260421T140000
DTSTAMP:20260423T180426
CREATED:20250730T174718Z
LAST-MODIFIED:20250730T174718Z
UID:10000089-1776776400-1776780000@clasleaders.org
SUMMARY:AAMSP Virtual Professional Learning Series 4 of 4
DESCRIPTION:AAMSP Virtual Professional Learning Sessions for P-12 School Leaders\nAPLDS Approved Sessions | Free for ALL CLAS Members\n  \nView more information and register online.
URL:https://clasleaders.org/event/aamsp-virtual-professional-learning-series-4-of-4/
LOCATION:Virtual
CATEGORIES:Affiliate Conferences and Events,Webinars and Webcasts
ATTACH;FMTTYPE=image/png:https://clasleaders.org/wp-content/uploads/2025/07/AAMSP-Virtual-Professional-Learning-Header-NEW.png
END:VEVENT
BEGIN:VEVENT
DTSTART;TZID=America/Chicago:20261004T080000
DTEND;TZID=America/Chicago:20261007T170000
DTSTAMP:20260423T180426
CREATED:20260422T194003Z
LAST-MODIFIED:20260422T194003Z
UID:10000109-1791100800-1791392400@clasleaders.org
SUMMARY:2026 ALA-CASE Fall Conference
DESCRIPTION:October 4-7\, 2026\nPerdido Beach Resort\, Orange Beach\nRegistration Coming Soon!\n  \n 
URL:https://clasleaders.org/event/2026-ala-case-fall-conference/
LOCATION:Perdido Beach Resort\, 27200 Perdido Beach Blvd\, Orange Beach\, AL\, 36561\, United States
CATEGORIES:Affiliate Conferences and Events
ATTACH;FMTTYPE=image/png:https://clasleaders.org/wp-content/uploads/2025/06/ALA-CASE-FC25-600x200-1.png
END:VEVENT
BEGIN:VEVENT
DTSTART;TZID=America/Chicago:20261023T080000
DTEND;TZID=America/Chicago:20261023T150000
DTSTAMP:20260423T180426
CREATED:20260423T181505Z
LAST-MODIFIED:20260423T181505Z
UID:10000113-1792742400-1792767600@clasleaders.org
SUMMARY:2026 AASPA Fall Drive-In
DESCRIPTION:October 23\, 2026\nShelby County Instructional Services Center\n601 1st St. S\, Alabaster\, AL 35007\n\n\n\n\nAASPA’s Fall Drive-In Conference remains a premier event for professional learning and networking for school personnel administrators.  We know you need resources and best practices to help you succeed in the following months.  Join us October 23\, 2026\, at the Shelby County Instructional Center as we present the most up-to-date comprehensive one-day learning opportunity for Alabama Personnel Administrators! \n\n\n\n\nRegistration Coming Soon!
URL:https://clasleaders.org/event/2026-aaspa-fall-drive-in/
LOCATION:Shelby County Instructional Center\, 601 1st St. S\, Alabaster\, AL\, 35007\, United States
CATEGORIES:Affiliate Conferences and Events
ATTACH;FMTTYPE=image/png:https://clasleaders.org/wp-content/uploads/2024/08/AASPA-Fall-Drive-In-600x200-1.png
END:VEVENT
BEGIN:VEVENT
DTSTART;TZID=America/Chicago:20261105T090000
DTEND;TZID=America/Chicago:20261105T150000
DTSTAMP:20260423T180426
CREATED:20260423T181728Z
LAST-MODIFIED:20260423T181834Z
UID:10000114-1793869200-1793890800@clasleaders.org
SUMMARY:ALSAIL Fall 2026 C&I Bootcamp (Virtual)
DESCRIPTION:Registration Coming Soon!
URL:https://clasleaders.org/event/alsail-fall-2026-ci-bootcamp-virtual/
LOCATION:Virtual
CATEGORIES:Affiliate Conferences and Events,Webinars and Webcasts
ATTACH;FMTTYPE=image/png:https://clasleaders.org/wp-content/uploads/2026/02/ALSAIL-Bootcamp-600x200-updated.png
END:VEVENT
BEGIN:VEVENT
DTSTART;TZID=America/Chicago:20261108T170000
DTEND;TZID=America/Chicago:20261111T100000
DTSTAMP:20260423T180426
CREATED:20260423T201229Z
LAST-MODIFIED:20260423T201229Z
UID:10000116-1794157200-1794391200@clasleaders.org
SUMMARY:2026 AASSP/AAMSP Fall Conference
DESCRIPTION:Registration Coming Soon!
URL:https://clasleaders.org/event/2026-aassp-aamsp-fall-conference/
LOCATION:Perdido Beach Resort\, 27200 Perdido Beach Blvd\, Orange Beach\, AL\, 36561\, United States
CATEGORIES:Affiliate Conferences and Events
ATTACH;FMTTYPE=image/png:https://clasleaders.org/wp-content/uploads/2026/04/AASSP-Email-Backgroud-600-x-200-px.png
END:VEVENT
BEGIN:VEVENT
DTSTART;TZID=America/Chicago:20261115T150000
DTEND;TZID=America/Chicago:20261118T100000
DTSTAMP:20260423T180426
CREATED:20260423T184030Z
LAST-MODIFIED:20260423T190001Z
UID:10000115-1794754800-1794996000@clasleaders.org
SUMMARY:2026 AAESA Fall Instructional Leadership Conference
DESCRIPTION:AAESA Fall Instructional Leadership Conference\nRegistration Coming Soon!
URL:https://clasleaders.org/event/2026-aaesa-fall-instructional-leadership-conference/
LOCATION:Perdido Beach Resort\, 27200 Perdido Beach Blvd\, Orange Beach\, AL\, 36561\, United States
CATEGORIES:Affiliate Conferences and Events
ATTACH;FMTTYPE=image/png:https://clasleaders.org/wp-content/uploads/2026/04/AAESA-Email-Banner-600-x-200-px.png
END:VEVENT
BEGIN:VEVENT
DTSTART;TZID=America/Chicago:20261203T083000
DTEND;TZID=America/Chicago:20261204T160000
DTSTAMP:20260423T180426
CREATED:20260423T204451Z
LAST-MODIFIED:20260423T205205Z
UID:10000118-1796286600-1796400000@clasleaders.org
SUMMARY:2026 ALA504 Annual Conference
DESCRIPTION:Alabama 504 Conference\nRegistration Coming Soon!
URL:https://clasleaders.org/event/2025-ala504-annual-conference-2/
LOCATION:Sheraton Birmingham\, 2101 Richard Arrington Blvd\, Birmingham\, 35203\, United States
CATEGORIES:Affiliate Conferences and Events
ATTACH;FMTTYPE=image/png:https://clasleaders.org/wp-content/uploads/2024/08/504-Winter-Conference-Event-Card.png
END:VEVENT
END:VCALENDAR