BEGIN:VCALENDAR
VERSION:2.0
PRODID:-//CLAS - ECPv6.15.20//NONSGML v1.0//EN
CALSCALE:GREGORIAN
METHOD:PUBLISH
X-ORIGINAL-URL:https://clasleaders.org
X-WR-CALDESC:Events for CLAS
REFRESH-INTERVAL;VALUE=DURATION:PT1H
X-Robots-Tag:noindex
X-PUBLISHED-TTL:PT1H
BEGIN:VTIMEZONE
TZID:America/Chicago
BEGIN:DAYLIGHT
TZOFFSETFROM:-0600
TZOFFSETTO:-0500
TZNAME:CDT
DTSTART:20230312T080000
END:DAYLIGHT
BEGIN:STANDARD
TZOFFSETFROM:-0500
TZOFFSETTO:-0600
TZNAME:CST
DTSTART:20231105T070000
END:STANDARD
BEGIN:DAYLIGHT
TZOFFSETFROM:-0600
TZOFFSETTO:-0500
TZNAME:CDT
DTSTART:20240310T080000
END:DAYLIGHT
BEGIN:STANDARD
TZOFFSETFROM:-0500
TZOFFSETTO:-0600
TZNAME:CST
DTSTART:20241103T070000
END:STANDARD
BEGIN:DAYLIGHT
TZOFFSETFROM:-0600
TZOFFSETTO:-0500
TZNAME:CDT
DTSTART:20250309T080000
END:DAYLIGHT
BEGIN:STANDARD
TZOFFSETFROM:-0500
TZOFFSETTO:-0600
TZNAME:CST
DTSTART:20251102T070000
END:STANDARD
BEGIN:DAYLIGHT
TZOFFSETFROM:-0600
TZOFFSETTO:-0500
TZNAME:CDT
DTSTART:20260308T080000
END:DAYLIGHT
BEGIN:STANDARD
TZOFFSETFROM:-0500
TZOFFSETTO:-0600
TZNAME:CST
DTSTART:20261101T070000
END:STANDARD
END:VTIMEZONE
BEGIN:VEVENT
DTSTART;TZID=America/Chicago:20240925T090000
DTEND;TZID=America/Chicago:20240925T150000
DTSTAMP:20260423T194420
CREATED:20240723T175643Z
LAST-MODIFIED:20240829T175753Z
UID:10000007-1727254800-1727276400@clasleaders.org
SUMMARY:AASCD Women S.H.I.N.E. in Leadership Summit
DESCRIPTION:Women in Education Leadership Summit\nFor more information: https://aascdshine.events.clasleaders.org/ \n(Registration opens at 8:30 am) \nThompson High School\n1921 Warrior Pkwy\, Alabaster\, AL 35007 \n$279 (AASCD member)\n$299 (AASCD non-member) \nAASCD  presents\, “Women S.H.I.N.E. in Leadership Summit”. Be prepared to engage with your heart and mind as we experience the future of women in leadership – where your presence matters.  Designed for women\, but all are welcome!
URL:https://clasleaders.org/event/aascd-women-in-education-leadership-conference/
LOCATION:Thompson High School\, 1921 Warrior Pkwy\, Alabaster\, AL\, 35007\, United States
CATEGORIES:Affiliate Conferences and Events
ATTACH;FMTTYPE=image/png:https://clasleaders.org/wp-content/uploads/2024/07/AASCD600x200.png
END:VEVENT
BEGIN:VEVENT
DTSTART;TZID=America/Chicago:20240909T090000
DTEND;TZID=America/Chicago:20250212T150000
DTSTAMP:20260423T194420
CREATED:20240703T012348Z
LAST-MODIFIED:20240816T165052Z
UID:10000001-1725872400-1739372400@clasleaders.org
SUMMARY:2024-2025 LEArn & LEAd Sessions
DESCRIPTION:LEA Representative Leadership Training – New Dates and Locations!
URL:https://clasleaders.org/event/2024-2025-learn-lead-sessions/
CATEGORIES:Affiliate Conferences and Events,CLAS Conferences and Events
ATTACH;FMTTYPE=image/png:https://clasleaders.org/wp-content/uploads/2024/07/24-25-learn-and-lead-sessions-email.png
END:VEVENT
BEGIN:VEVENT
DTSTART;TZID=America/Chicago:20240823T110000
DTEND;TZID=America/Chicago:20240823T120000
DTSTAMP:20260423T194420
CREATED:20240816T144837Z
LAST-MODIFIED:20240829T205621Z
UID:10000018-1724410800-1724414400@clasleaders.org
SUMMARY:ALA504 Empower Hour #1: The Intersection of 504\, ADA\, and IDEA
DESCRIPTION:Section 504 vs ADA vs IDEA\nThis is the first in a series of 4 Alabama 504 Virtual Training Sessions. \nSection 504\, the ADA\, and the IDEA are federal laws that work together to protect students with disabilities from discrimination\, exclusion\, and unequal treatment in education. These laws often overlap and differ in several ways. In this session\, we will compare some of the educational provisions of these laws and explore key differences in what they require of schools in the education of students with disabilities. \nPresented by: Julie J. Weatherly\, Esq.
URL:https://clasleaders.org/event/ala504-empower-hour-1-section-504-vs-ada-vs-idea/
LOCATION:Virtual
CATEGORIES:Affiliate Conferences and Events,Webinars and Webcasts
ATTACH;FMTTYPE=image/png:https://clasleaders.org/wp-content/uploads/2024/08/504-Empower-Hours-Event-Card.png
END:VEVENT
END:VCALENDAR