BEGIN:VCALENDAR
VERSION:2.0
PRODID:-//CLAS - ECPv6.15.20//NONSGML v1.0//EN
CALSCALE:GREGORIAN
METHOD:PUBLISH
X-WR-CALNAME:CLAS
X-ORIGINAL-URL:https://clasleaders.org
X-WR-CALDESC:Events for CLAS
REFRESH-INTERVAL;VALUE=DURATION:PT1H
X-Robots-Tag:noindex
X-PUBLISHED-TTL:PT1H
BEGIN:VTIMEZONE
TZID:America/Chicago
BEGIN:DAYLIGHT
TZOFFSETFROM:-0600
TZOFFSETTO:-0500
TZNAME:CDT
DTSTART:20250309T080000
END:DAYLIGHT
BEGIN:STANDARD
TZOFFSETFROM:-0500
TZOFFSETTO:-0600
TZNAME:CST
DTSTART:20251102T070000
END:STANDARD
BEGIN:DAYLIGHT
TZOFFSETFROM:-0600
TZOFFSETTO:-0500
TZNAME:CDT
DTSTART:20260308T080000
END:DAYLIGHT
BEGIN:STANDARD
TZOFFSETFROM:-0500
TZOFFSETTO:-0600
TZNAME:CST
DTSTART:20261101T070000
END:STANDARD
BEGIN:DAYLIGHT
TZOFFSETFROM:-0600
TZOFFSETTO:-0500
TZNAME:CDT
DTSTART:20270314T080000
END:DAYLIGHT
BEGIN:STANDARD
TZOFFSETFROM:-0500
TZOFFSETTO:-0600
TZNAME:CST
DTSTART:20271107T070000
END:STANDARD
END:VTIMEZONE
BEGIN:VEVENT
DTSTART;TZID=America/Chicago:20260204T080000
DTEND;TZID=America/Chicago:20260206T150000
DTSTAMP:20260423T180237
CREATED:20251001T212746Z
LAST-MODIFIED:20251001T213825Z
UID:10000096-1770192000-1770390000@clasleaders.org
SUMMARY:AL-ABSE State Conference 2026
DESCRIPTION:Alabama Alliance for Black School Educators (AL-ABSE)\nState Conference\nFebruary 4-6\, 2026\nVisit our event site for more information: https://2026-al-abse-state-conference.events.clasleaders.org/
URL:https://clasleaders.org/event/al-abse-state-conference-2026/
LOCATION:Marriott Birmingham\, 3590 Grandview Parkway\, Birmingham\, AL\, 35243\, United States
CATEGORIES:Affiliate Conferences and Events
ATTACH;FMTTYPE=image/jpeg:https://clasleaders.org/wp-content/uploads/2025/10/AL-ABSE-2026-Conference-Thumbnail-Rhythm-600-x-200-px.jpg
END:VEVENT
END:VCALENDAR