BEGIN:VCALENDAR
VERSION:2.0
PRODID:-//CLAS - ECPv6.15.20//NONSGML v1.0//EN
CALSCALE:GREGORIAN
METHOD:PUBLISH
X-WR-CALNAME:CLAS
X-ORIGINAL-URL:https://clasleaders.org
X-WR-CALDESC:Events for CLAS
REFRESH-INTERVAL;VALUE=DURATION:PT1H
X-Robots-Tag:noindex
X-PUBLISHED-TTL:PT1H
BEGIN:VTIMEZONE
TZID:America/Chicago
BEGIN:DAYLIGHT
TZOFFSETFROM:-0600
TZOFFSETTO:-0500
TZNAME:CDT
DTSTART:20250309T080000
END:DAYLIGHT
BEGIN:STANDARD
TZOFFSETFROM:-0500
TZOFFSETTO:-0600
TZNAME:CST
DTSTART:20251102T070000
END:STANDARD
BEGIN:DAYLIGHT
TZOFFSETFROM:-0600
TZOFFSETTO:-0500
TZNAME:CDT
DTSTART:20260308T080000
END:DAYLIGHT
BEGIN:STANDARD
TZOFFSETFROM:-0500
TZOFFSETTO:-0600
TZNAME:CST
DTSTART:20261101T070000
END:STANDARD
BEGIN:DAYLIGHT
TZOFFSETFROM:-0600
TZOFFSETTO:-0500
TZNAME:CDT
DTSTART:20270314T080000
END:DAYLIGHT
BEGIN:STANDARD
TZOFFSETFROM:-0500
TZOFFSETTO:-0600
TZNAME:CST
DTSTART:20271107T070000
END:STANDARD
END:VTIMEZONE
BEGIN:VEVENT
DTSTART;TZID=America/Chicago:20260303T080000
DTEND;TZID=America/Chicago:20260306T150000
DTSTAMP:20260423T143442
CREATED:20250730T135932Z
LAST-MODIFIED:20251215T160936Z
UID:10000085-1772524800-1772809200@clasleaders.org
SUMMARY:2026 AAPASS Spring Conference
DESCRIPTION:AAPASS Spring Conference\nOnline Registration Coming Soon!\nTentative Agenda \nMarch 3-6\, 2026\nThe Battle House\nMobile\, Alabama\nThe Alabama Association for Prevention\, Attendance and Support Services (AAPASS) State Conference is a premier event focused on addressing the critical issues that impact the wellbeing and academic success of students across Alabama. Through a series of targeted\, expert-led sessions\, the conference covers a wide range of topics including attendance and truancy\, homelessness\, mental health\, PowerSchool updates\, threat assessments\, the Helping Families Initiative\, Specialized Treatment Centers (STC) and Charter School updates\, vaping\, suicide prevention\, and more. Designed for administrators\, counselors\, and student support professionals\, the AAPASS conference provides up-to-date information\, practical tools\, and collaborative solutions to help educators navigate the evolving challenges facing today’s students. By fostering knowledge\, connection\, and proactive strategies\, AAPASS empowers education leaders to create safe\, supportive\, and equitable learning environments for every child in Alabama. \n  \n 
URL:https://clasleaders.org/event/2026-aapass-spring-conference/
LOCATION:The Battle House\, 26 N Royal St\, Mobile\, 36602\, United States
CATEGORIES:Affiliate Conferences and Events
ATTACH;FMTTYPE=image/png:https://clasleaders.org/wp-content/uploads/2025/07/Email-header-AAPASS-Spring-Conference.png
END:VEVENT
END:VCALENDAR