BEGIN:VCALENDAR
VERSION:2.0
PRODID:-//CLAS - ECPv6.15.20//NONSGML v1.0//EN
CALSCALE:GREGORIAN
METHOD:PUBLISH
X-ORIGINAL-URL:https://clasleaders.org
X-WR-CALDESC:Events for CLAS
REFRESH-INTERVAL;VALUE=DURATION:PT1H
X-Robots-Tag:noindex
X-PUBLISHED-TTL:PT1H
BEGIN:VTIMEZONE
TZID:America/Chicago
BEGIN:DAYLIGHT
TZOFFSETFROM:-0600
TZOFFSETTO:-0500
TZNAME:CDT
DTSTART:20250309T080000
END:DAYLIGHT
BEGIN:STANDARD
TZOFFSETFROM:-0500
TZOFFSETTO:-0600
TZNAME:CST
DTSTART:20251102T070000
END:STANDARD
BEGIN:DAYLIGHT
TZOFFSETFROM:-0600
TZOFFSETTO:-0500
TZNAME:CDT
DTSTART:20260308T080000
END:DAYLIGHT
BEGIN:STANDARD
TZOFFSETFROM:-0500
TZOFFSETTO:-0600
TZNAME:CST
DTSTART:20261101T070000
END:STANDARD
BEGIN:DAYLIGHT
TZOFFSETFROM:-0600
TZOFFSETTO:-0500
TZNAME:CDT
DTSTART:20270314T080000
END:DAYLIGHT
BEGIN:STANDARD
TZOFFSETFROM:-0500
TZOFFSETTO:-0600
TZNAME:CST
DTSTART:20271107T070000
END:STANDARD
END:VTIMEZONE
BEGIN:VEVENT
DTSTART;VALUE=DATE:20260114
DTEND;VALUE=DATE:20260117
DTSTAMP:20260423T180106
CREATED:20250804T152231Z
LAST-MODIFIED:20251204T203737Z
UID:10000090-1768348800-1768607999@clasleaders.org
SUMMARY:2026 AASPA Winter Conference
DESCRIPTION:2026 AASPA 31st Annual Conference\nJanuary 14 – 16\, 2026\nRenaissance Hotel & Spa | Montgomery\, AL\nRegister Here!\n$250 Member – $275 Non-Member\nAfter December 19\, 2025\n$300 AASPA Member – $325 Non-Member \nHotel Information – The Renaissance Montgomery Hotel  & Spa room block is full. You may call Embassy Suites Montgomery at 334-269-5055 to book your room at a nightly rate of $170 or book online here. \nTentative Agenda: \n\nTeacher Certification and SDE Updates – Shavon Harri\, Corey Martin and Certification Specialists\, ALSDE\nLegal Updates – Attorney Mark Boardman\, Boardman Carr Attorneys\nTeachers’ Retirement System & RSA-1 – Kit Gallup\, Director-Field Services\, RSA\nNew HR Administrators Panel Discussion\nHR Table Talks Roundtable – David Asbury\nGreetings from Dr. Mackey\nUpdates on Legislative Sessions & CLAS Updates – Farrell Seymore\, CLAS Executive Director\nAASB (Alabama Association of School Boards)\nHire True – Mona Coan and Andrea Wilson\nPrincipal Contract Updates\nNational AASPA Impact – Kelly Coash Johnson\n\nExhibitor Opportunity! Please contact Dell Goodwin at goodwind226@yahoo.com to see how your company will be able to make a commitment to the partnership with the Alabama ASPA. \nIf you have any questions regarding this conference\, please email Meredith Hanson at hansonmb@vhcs.us. We look foward to seeing you this year at the AASPA 31st Annual Conference!
URL:https://clasleaders.org/event/2025-aaspa-winter-conference-2/
LOCATION:Renaissance Montgomery Hotel & Spa\, 201 Tallapoosa St\, Montgomery\, AL\, 36104\, United States
CATEGORIES:Affiliate Conferences and Events
ATTACH;FMTTYPE=image/png:https://clasleaders.org/wp-content/uploads/2024/09/AASPA-Winter-Conference.png
END:VEVENT
BEGIN:VEVENT
DTSTART;TZID=America/Chicago:20260120T110000
DTEND;TZID=America/Chicago:20260120T120000
DTSTAMP:20260423T180106
CREATED:20250905T183841Z
LAST-MODIFIED:20260112T155719Z
UID:10000094-1768906800-1768910400@clasleaders.org
SUMMARY:ALA504 Empower Hour #3: Winning with Extracurriculars
DESCRIPTION:Please note: date changed due to federal holiday on 1/19/2026. Existing links will work to access this webinar via Zoom.
URL:https://clasleaders.org/event/ala504-empower-hour-3-winning-with-extracurriculars/
LOCATION:Virtual
CATEGORIES:Affiliate Conferences and Events,Webinars and Webcasts
ATTACH;FMTTYPE=image/png:https://clasleaders.org/wp-content/uploads/2024/08/504-Empower-Hours-Event-Card.png
END:VEVENT
BEGIN:VEVENT
DTSTART;TZID=America/Chicago:20260125T080000
DTEND;TZID=America/Chicago:20260127T160000
DTSTAMP:20260423T180106
CREATED:20250626T182058Z
LAST-MODIFIED:20251121T145814Z
UID:10000081-1769328000-1769529600@clasleaders.org
SUMMARY:AASCD 2026 Winter Conference
DESCRIPTION:January 25 – 27\, 2026\nJanuary 25 – AASCD Board Meeting). Event starts January 26\, 2026 \nEmbark on an exciting educational professional learning experience where curriculum directors accept the mission and connect to conquer!  Join forces\, forge alliances\, and conquer the challenges facing education today!  Your mission\, should you choose to accept it\, is to connect\, collaborate and emerge victorious in the ever-evolving mission of curriculum excellence.
URL:https://clasleaders.org/event/aascd-2026-winter-conference/
LOCATION:Perdido Beach Resort\, 27200 Perdido Beach Blvd\, Orange Beach\, AL\, 36561\, United States
CATEGORIES:Affiliate Conferences and Events
ATTACH;FMTTYPE=image/jpeg:https://clasleaders.org/wp-content/uploads/2025/10/AASCD-2026-Conference-Thumbnail-Rhythm.jpg
END:VEVENT
END:VCALENDAR